BEGIN:VCALENDAR
VERSION:2.0
PRODID:-//ChamberMaster//Event Calendar 2.0//EN
METHOD:PUBLISH
X-PUBLISHED-TTL:P3D
REFRESH-INTERVAL:P3D
CALSCALE:GREGORIAN
BEGIN:VEVENT
DTSTART:20100227T140000Z
DTEND:20100227T200000Z
X-MICROSOFT-CDO-ALLDAYEVENT:FALSE
SUMMARY:13th Annual Caregivers or RC Bowl-a-thon
DESCRIPTION:13th annual Caregivers of Rockingham CountyCaregivers Bowl-a-thonFebruary 27\, 20109:00a.m. - 3:00 p.m.(90 minute team shifts throughout the day) Location:  Reidsville Lanes 1640 Freeway Drive\, Reidsville Need bowlers\, team captains\, group coordinators\, lane sponsors\, event sponsors\, prize donationsCome have fun and help raise $$$ for Caregivers of Rockingham CountyCaregivers of Rockingham County is an interfaith nonprofit volunteer organization that provides free services to the elderly and disabled.For more information call 336-361-0971www.caregiversofrockinghamcounty.org All gifts are tax deductible
X-ALT-DESC;FMTTYPE=text/html:<div style="text-align: center"><span style="font-size: medium">13th annual Caregivers of Rockingham County</span></div><div style="text-align: center"><span style="font-size: medium"><span style="font-size: large">Caregivers Bowl-a-thon</span></span></div><div style="text-align: center"><span style=""><span style="font-size: large"><span style="font-size: medium">February 27\, 2010</span></span></span></div><div style="text-align: center"><span style=""><span style="font-size: large"><span style="font-size: medium">9:00a.m. - 3:00 p.m.</span></span></span></div><div style="text-align: center"><span style=""><span style="font-size: large"><span style="font-size: medium">(90 minute team shifts throughout the day)</span></span></span></div><div style="text-align: center">&nbsp\;</div><div style="text-align: left"><span style=""><span style="font-size: large"><span style="font-size: medium">Location:&nbsp\; Reidsville Lanes 1640 Freeway Drive\, Reidsville</span></span></span></div><div style="text-align: left">&nbsp\;</div><div style="text-align: left"><span style=""><span style="font-size: large"><span style="font-size: medium">Need bowlers\, team captains\, group coordinators\, lane sponsors\, event sponsors\, prize donations</span></span></span></div><div style="text-align: center"><span style=""><span style="font-size: large"><span style="font-size: medium"><span style="font-size: large">Come have fun and help raise $$$ for Caregivers of Rockingham County</span></span></span></span></div><div style="text-align: left"><span style=""><span style="font-size: large"><span style="font-size: medium"><span style="font-size: large"><span style="font-size: small">Caregivers of Rockingham County is an interfaith nonprofit volunteer organization that provides free services to the elderly and disabled.</span></span></span></span></span></div><div style="text-align: left"><span style=""><span style="font-size: large"><span style="font-size: medium"><span style="font-size: large"><span style="font-size: small">For more information call 336-361-0971</span></span></span></span></span></div><div style="text-align: left"><span style=""><span style="font-size: large"><span style="font-size: medium"><span style="font-size: large"><span style="font-size: small"><a href="http://www.caregiversofrockinghamcounty.org">www.caregiversofrockinghamcounty.org</a></span></span></span></span></span></div><div style="text-align: left">&nbsp\;</div><div style="text-align: left"><span style=""><span style="font-size: large"><span style="font-size: medium"><span style="font-size: large"><span style="font-size: small">All gifts are tax deductible</span></span></span></span></span></div><div style="text-align: left">&nbsp\;</div>
LOCATION:
UID:e.111.1321
SEQUENCE:3
DTSTAMP:20260424T184458Z
URL:https://business.reidsvillechamber.org/events/details/13th-annual-caregivers-or-rc-bowl-a-thon-02-27-2010-1321
END:VEVENT

END:VCALENDAR
