BEGIN:VCALENDAR
VERSION:2.0
PRODID:-//ChamberMaster//Event Calendar 2.0//EN
METHOD:PUBLISH
X-PUBLISHED-TTL:P3D
REFRESH-INTERVAL:P3D
CALSCALE:GREGORIAN
BEGIN:VEVENT
DTSTART:20120218T140000Z
DTEND:20120218T200000Z
X-MICROSOFT-CDO-ALLDAYEVENT:FALSE
SUMMARY:15th Annual Caregiver's Bowl-A-Thon
DESCRIPTION:Come out an join us for the 15th Annual Caregiver's Bowl-A-Thon.\n\n	\n\n	Click Here for Flyer
X-ALT-DESC;FMTTYPE=text/html:<p>\n	Come out an join us for the 15th Annual Caregiver&#39\;s Bowl-A-Thon.<br />\n	<br />\n	<a href="http://cloud.chambermaster.com/userfiles/UserFiles/chambers/111/File/Bowl-A-Thon%202011%20newspaper%20ad.pdf">Click Here for Flyer</a></p>\n
LOCATION:Reidsville Lanes 1640 Freeway Drive Reidsville\, NC 27320
UID:e.111.2123
SEQUENCE:3
DTSTAMP:20260421T144552Z
URL:https://business.reidsvillechamber.org/events/details/15th-annual-caregiver-s-bowl-a-thon-02-18-2012-2123
END:VEVENT

END:VCALENDAR
