BEGIN:VCALENDAR
VERSION:2.0
PRODID:-//ChamberMaster//Event Calendar 2.0//EN
METHOD:PUBLISH
X-PUBLISHED-TTL:P3D
REFRESH-INTERVAL:P3D
CALSCALE:GREGORIAN
BEGIN:VEVENT
DTSTART:20120421T170000Z
DTEND:20120421T230000Z
X-MICROSOFT-CDO-ALLDAYEVENT:FALSE
SUMMARY:1st Annual Bette Furr Memorial No-Tap Tournament
DESCRIPTION:Bette Furr Memorial No-Tap Tournament!\n\n	At Reidsville Lanes\, Saturday April 21\, 2012\n\n	\n\n	9 pins same as strike!!\n\n	Winner Takes All!!!!\n\n	\n\n	Men's and Women's Divison\n\n	\n\n	Shift times: 1-7\n\n	\n\n	Entry forms available at Reidsville Lanes.\n\n	For more info call 342-1371 or email\n\n	greater-rockingham-county-ba@hotmail.com\n\n	\n\n	Entry Deadline April 18\, 2012 by 9 pm\n\n	Entry Fee: $20 per shift\n\n	\n\n	Current USBC Membership is required.\n\n	You MUST have your sanction card at check-in.\n\n	Check in 15-30 minutes prior to your squad time.
X-ALT-DESC;FMTTYPE=text/html:<p>\n	Bette Furr Memorial No-Tap Tournament!<br />\n	At Reidsville Lanes\, Saturday April 21\, 2012<br />\n	<br />\n	9 pins same as strike!!<br />\n	Winner Takes All!!!!<br />\n	<br />\n	Men&#39\;s and Women&#39\;s Divison<br />\n	<br />\n	Shift times: 1-7<br />\n	<br />\n	Entry forms available at Reidsville Lanes.<br />\n	For more info call 342-1371 or email<br />\n	<a href="mailto:greater-rockingham-county-ba@hotmail.com">greater-rockingham-county-ba@hotmail.com</a><br />\n	<br />\n	Entry Deadline April 18\, 2012 by 9 pm<br />\n	Entry Fee: $20 per shift<br />\n	<br />\n	Current USBC Membership is required.<br />\n	You MUST have your sanction card at check-in.<br />\n	Check in 15-30 minutes prior to your squad time.<br />\n	&nbsp\;</p>\n
LOCATION:Reidsville Lanes 1640 Freeway Drive\, Reidsville\, NC
UID:e.111.2165
SEQUENCE:3
DTSTAMP:20260421T114149Z
URL:https://business.reidsvillechamber.org/events/details/1st-annual-bette-furr-memorial-no-tap-tournament-04-21-2012-2165
END:VEVENT

END:VCALENDAR
