BEGIN:VCALENDAR
VERSION:2.0
PRODID:-//ChamberMaster//Event Calendar 2.0//EN
METHOD:PUBLISH
X-PUBLISHED-TTL:P3D
REFRESH-INTERVAL:P3D
CALSCALE:GREGORIAN
BEGIN:VEVENT
DTSTART:20091024T120000Z
DTEND:20091024T190000Z
X-MICROSOFT-CDO-ALLDAYEVENT:FALSE
SUMMARY:1st Annual Golden Corral / DAV Captains Choice Golf Tournament
DESCRIPTION:1st Annual Golden Corral / DAV Captains Choice Golf Tournament .  Format: 4Man Captains Choice ( Limited to 100 Players) ( Min. 40 Handicap per Team) COST: $55.00 per Player  (Includes Green/Cart fees\, Lunch\, Drinks\, and 2 Mulligan's Each Player Entry Deadline is Oct 14th ALL PROCEEDS FROM THIS TOURNAMENT GO TO THE DISABLED AMERICAN VETERANS Call Bart Roberts (932-5543 or 280-3544) or Golden Corral 616-1960  also Great Prizes to be given away
X-ALT-DESC;FMTTYPE=text/html:1st Annual Golden Corral / DAV Captains Choice Golf Tournament .  Format: 4Man Captains Choice ( Limited to 100 Players) ( Min. 40 Handicap per Team) COST: $55.00 per Player  (Includes Green/Cart fees\, Lunch\, Drinks\, and 2 Mulligan's Each Player Entry Deadline is Oct 14th ALL PROCEEDS FROM THIS TOURNAMENT GO TO THE DISABLED AMERICAN VETERANS Call Bart Roberts (932-5543 or 280-3544) or Golden Corral 616-1960  also Great Prizes to be given away\n
LOCATION:Monroeton Golf Club
UID:e.111.1255
SEQUENCE:3
DTSTAMP:20260424T233248Z
URL:https://business.reidsvillechamber.org/events/details/1st-annual-golden-corral-dav-captains-choice-golf-tournament-10-24-2009-1255
END:VEVENT

END:VCALENDAR
