BEGIN:VCALENDAR
VERSION:2.0
PRODID:-//ChamberMaster//Event Calendar 2.0//EN
METHOD:PUBLISH
X-PUBLISHED-TTL:P3D
REFRESH-INTERVAL:P3D
CALSCALE:GREGORIAN
BEGIN:VEVENT
DTSTART:20091121T233000Z
DTEND:20091122T010000Z
X-MICROSOFT-CDO-ALLDAYEVENT:FALSE
SUMMARY:2009 Christmas Parade
DESCRIPTION:Hosted by WGSR 47 Star News336-342-2668
X-ALT-DESC;FMTTYPE=text/html:<div>Hosted by WGSR 47 Star News</div><div>336-342-2668</div>
LOCATION:Reidsville
UID:e.111.1216
SEQUENCE:3
DTSTAMP:20260424T234535Z
URL:https://business.reidsvillechamber.org/events/details/2009-christmas-parade-11-21-2009-1216
END:VEVENT

END:VCALENDAR
