BEGIN:VCALENDAR
VERSION:2.0
PRODID:-//ChamberMaster//Event Calendar 2.0//EN
METHOD:PUBLISH
X-PUBLISHED-TTL:P3D
REFRESH-INTERVAL:P3D
CALSCALE:GREGORIAN
BEGIN:VEVENT
DTSTART:20100501T140000Z
DTEND:20100501T180000Z
X-MICROSOFT-CDO-ALLDAYEVENT:FALSE
SUMMARY:2010 Living and Aging Well Expo
DESCRIPTION:2010 Living and Aging Well Expo Sponsored By: City of Reidsville* Aging\, Disability\, and Transit Services * Avante of Reidsville * Carolina Apothecary * Carolina House & Eden Estates * Layne's Pharmacy* Advanced Homecare * Arbor Ridge at Eden* Bayada Nurses * Beltone * CareSouth * Doctor's Vision Center* The Hearing Center * Sexton Family Chiropractic * Whitt Insurance Agency   When: Saturday\, May 1st\, 10:00 - 2:00Where: Market Square\, Downton Reidsville\, Corner of Scales and Settle Street *In the event of bad weather\, Expo will be held on May 8th.*For Free Transportation\, call Ph. 34 RCATS (347-2287)Presented By: Rockingham County Service Providers
X-ALT-DESC;FMTTYPE=text/html:<div style="text-align: center"><span style="font-size: x-large">2010 Living and Aging Well Expo</span></div><div style="text-align: center">&nbsp\;</div><div style="text-align: center"><span style="font-size: large">Sponsored By: City of Reidsville</span></div><div style="text-align: center"><span style="font-size: medium">* Aging\, Disability\, and Transit Services * Avante of Reidsville * Carolina&nbsp\;Apothecary&nbsp\;</span></div><div style="text-align: center"><span style="font-size: medium">*&nbsp\;Carolina House&nbsp\;&amp\; Eden&nbsp\;Estates * Layne's Pharmacy</span></div><div style="text-align: center"><span style="font-size: small">* Advanced&nbsp\;Homecare * Arbor Ridge at Eden</span></div><div style="text-align: center"><span style="font-size: x-small">* Bayada Nurses * Beltone * CareSouth&nbsp\;* Doctor's Vision Center</span></div><div style="text-align: center"><span style="font-size: x-small">*&nbsp\;The Hearing Center * Sexton Family Chiropractic * Whitt Insurance&nbsp\;Agency&nbsp\;</span></div><div style="text-align: center">&nbsp\;</div><div style="text-align: left">&nbsp\;</div><div style="text-align: left"><span style="font-size: medium"><span style="">When: Saturday\, May 1st\, 10:00 - 2:00</span></span></div><div style="text-align: left"><span style="font-size: medium"><span style="">Where: Market Square\, Downton Reidsville\, Corner of Scales and Settle Street</span></span></div><div style="text-align: left">&nbsp\;</div><div style="text-align: left"><span style="font-size: x-small">*In the event of bad weather\, Expo will be held on May 8th.</span></div><div style="text-align: left"><span style="font-size: x-small">*For Free Transportation\, call Ph. 34 RCATS (347-2287)</span></div><div style="text-align: left"><em><span style="font-size: x-small">Presented By: Rockingham County Service Providers</span></em></div>
LOCATION:
UID:e.111.1388
SEQUENCE:3
DTSTAMP:20260424T133840Z
URL:https://business.reidsvillechamber.org/events/details/2010-living-and-aging-well-expo-05-01-2010-1388
END:VEVENT

END:VCALENDAR
