BEGIN:VCALENDAR
VERSION:2.0
PRODID:-//ChamberMaster//Event Calendar 2.0//EN
METHOD:PUBLISH
X-PUBLISHED-TTL:P3D
REFRESH-INTERVAL:P3D
CALSCALE:GREGORIAN
BEGIN:VEVENT
DTSTART;VALUE=DATE:20100301
DTEND;VALUE=DATE:20100424
TRANSP:TRANSPARENT
X-MICROSOFT-CDO-ALLDAYEVENT:TRUE
SUMMARY:2010 Summer Teen Volunteer Program Annie Penn Hospital
DESCRIPTION:Annie Penn Hospital's summer teen volunteer applications will be available beginning March\, 1\, 2010.  Applications may be obtained at Annie Penn Hospital Information Desks\, or at the Community Services office on the hospital's second floor.  Applicants must 14 years old by June 1\, 2010.  Enrollment will be limited\, and the application process will be competitive.  This year's program will run from June 28 - August 13.  The deadline for completed applications is Friday\, April\, 23\, 2010.  Please see contact information for more information.
X-ALT-DESC;FMTTYPE=text/html:Annie Penn Hospital's summer teen volunteer applications will be available beginning March\, 1\, 2010.  Applications may be obtained at Annie Penn Hospital Information Desks\, or at the Community Services office on the hospital's second floor.  Applicants must 14 years old by June 1\, 2010.  Enrollment will be limited\, and the application process will be competitive.  This year's program will run from June 28 - August 13.  The deadline for completed applications is Friday\, April\, 23\, 2010.  Please see contact information for more information.
LOCATION:
UID:e.111.1330
SEQUENCE:3
DTSTAMP:20260424T133442Z
URL:https://business.reidsvillechamber.org/events/details/2010-summer-teen-volunteer-program-annie-penn-hospital-03-01-2010-1330
END:VEVENT

END:VCALENDAR
