BEGIN:VCALENDAR
VERSION:2.0
PRODID:-//ChamberMaster//Event Calendar 2.0//EN
METHOD:PUBLISH
X-PUBLISHED-TTL:P3D
REFRESH-INTERVAL:P3D
CALSCALE:GREGORIAN
BEGIN:VEVENT
DTSTART:20111210T170000Z
DTEND:20111210T220000Z
X-MICROSOFT-CDO-ALLDAYEVENT:FALSE
SUMMARY:2011 Christmas Homes Tour Sponsored by United Methodist Women Main Street UMC
DESCRIPTION:Annual Christmas tour sponsored by The United Methodist Women of Main Street United Methodist Church\n\n	Reidsville
X-ALT-DESC;FMTTYPE=text/html:<p>\n	Annual Christmas tour sponsored by The United Methodist Women of Main Street United Methodist Church<br />\n	Reidsville<br />\n	<br />\n	&nbsp\;</p>\n
LOCATION:The following homes are on tour: Dr.. and Mrs. Michael Rourk 7450 Highway 158 West Mrs. Gene Gibbs 1406 Gibbs Road Mr. and Mrs. Michael Gibbs 2124 Belmont Drive Mr. and Mrs. Ira Tilley 606 Irvin Farm Road Mr. and Mrs. JB Balsley\, III 312 S. Main St.
UID:e.111.2094
SEQUENCE:3
DTSTAMP:20260421T193337Z
URL:https://business.reidsvillechamber.org/events/details/2011-christmas-homes-tour-sponsored-by-united-methodist-women-main-street-umc-12-10-2011-2094
END:VEVENT

END:VCALENDAR
