BEGIN:VCALENDAR
VERSION:2.0
PRODID:-//ChamberMaster//Event Calendar 2.0//EN
METHOD:PUBLISH
X-PUBLISHED-TTL:P3D
REFRESH-INTERVAL:P3D
CALSCALE:GREGORIAN
BEGIN:VEVENT
DTSTART:20111105T130000Z
DTEND:20111105T193000Z
X-MICROSOFT-CDO-ALLDAYEVENT:FALSE
SUMMARY:2011 Small Farm Day
DESCRIPTION:Click Here For Flyer\n\n\n\n\n\nWho Should Attend this Event?\n\n\n\nIf you or a family member are thinking about starting or expanding a small-scale farm operation?\n\n\n\nWould you like to learn about agricultural enterprises that can help you meet your personal or business goals?\n\n\n\nWould you like the chance to network and ask questions of successful producers and North Carolina agriculture personnel?\n\n\n\nIf the answer to any of these questions is "yes"\, then your are invited to atted the Rockingham County Farm Day program.
X-ALT-DESC;FMTTYPE=text/html:<a href="http://cloud.chambermaster.com/userfiles/UserFiles/chambers/111/File/2011SmallFarmday2.pdf"><br />\nClick Here For Flyer</a><br />\n<br />\n<br />\nWho Should Attend this Event?<br />\n<br />\nIf you or a family member are thinking about starting or expanding a small-scale farm operation?<br />\n<br />\nWould you like to learn about agricultural enterprises that can help you meet your personal or business goals?<br />\n<br />\nWould you like the chance to network and ask questions of successful producers and North Carolina agriculture personnel?<br />\n<br />\nIf the answer to any of these questions is &quot\;yes&quot\;\, then your are invited to atted the Rockingham County Farm Day program.<br />\n<br />\n
LOCATION:NC Cooperative Extension Service 525 NC Hwy 65\, Suite 200 Reidsville\, NC 27320
UID:e.111.2060
SEQUENCE:3
DTSTAMP:20260421T192618Z
URL:https://business.reidsvillechamber.org/events/details/2011-small-farm-day-11-05-2011-2060
END:VEVENT

END:VCALENDAR
