BEGIN:VCALENDAR
VERSION:2.0
PRODID:-//ChamberMaster//Event Calendar 2.0//EN
METHOD:PUBLISH
X-PUBLISHED-TTL:P3D
REFRESH-INTERVAL:P3D
CALSCALE:GREGORIAN
BEGIN:VEVENT
DTSTART:20120428T140000Z
DTEND:20120428T210000Z
X-MICROSOFT-CDO-ALLDAYEVENT:FALSE
SUMMARY:2012 Piedmont Earth Day Fair
DESCRIPTION:The 7th annual Piedmont Earth Day Fair will be held April 28\, 2012 at the Dixie Classic Fairgrounds from 10 am   5 pm.  Founded by PEA\, the Piedmont Earth Day Fair is the Triad's largest Earth Day event\, drawing crowds of 8\,000+. Feedback from both exhibitors and visitors continues to be extremely positive. The Fair attracts huge crowds because it is a free\, family-friendly event with lots to offer\, including live music all day on a main stage\, a variety of all-natural food options\, hands-on demonstrations and children's activities. In addition\, the Fair features over 100 exhibitors demonstrating the sustainable features of their products or services\, highlighting local initiatives to protect our environment\, and sharing their passion for sustainable solutions to modern day living.
X-ALT-DESC;FMTTYPE=text/html:<span style="font-size:12.0pt\;font-family:&quot\;Times New Roman&quot\;\,&quot\;serif&quot\;\;\nmso-fareast-font-family:&quot\;Times New Roman&quot\;">The 7th annual Piedmont Earth Day Fair will be held April 28\, 2012 at the Dixie Classic Fairgrounds from 10 am &ndash\; 5 pm.&nbsp\; Founded by PEA\, the Piedmont Earth Day Fair is the Triad&#39\;s largest Earth Day event\, drawing crowds of 8\,000+. Feedback from both exhibitors and visitors continues to be extremely positive. The Fair attracts huge crowds because it is a free\, family-friendly event with lots to offer\, including live music all day on a main stage\, a variety of all-natural food options\, hands-on demonstrations and children&#39\;s activities. In addition\, the Fair features over 100 exhibitors demonstrating the sustainable features of their products or services\, highlighting local initiatives to protect our environment\, and sharing their passion for sustainable solutions to modern day living.</span> 
LOCATION:Dixie Classic Fair Grounds 421 West 27th Street\, Winston-Salem\, NC 27105-4214
UID:e.111.2141
SEQUENCE:3
DTSTAMP:20260421T113733Z
URL:https://business.reidsvillechamber.org/events/details/2012-piedmont-earth-day-fair-04-28-2012-2141
END:VEVENT

END:VCALENDAR
