BEGIN:VCALENDAR
VERSION:2.0
PRODID:-//ChamberMaster//Event Calendar 2.0//EN
METHOD:PUBLISH
X-PUBLISHED-TTL:P3D
REFRESH-INTERVAL:P3D
CALSCALE:GREGORIAN
BEGIN:VEVENT
DTSTART:20120201T170000Z
DTEND:20120201T180000Z
X-MICROSOFT-CDO-ALLDAYEVENT:FALSE
SUMMARY:2012 Reidsville Chamber of Commerce Annual Awards Luncheon
DESCRIPTION:Please make plans to attend the\n\nReidsville Chamber of Commerce\n\nAnnual Awards Banquet\n\n\n\nWednesday\, February 1st\n\n@ 12:00 Noon\n\n\n\nPennrose Park Country Club\n\n1622 Country Club Road\n\n\n\nKeynote Speaker: John Formica\, An Ex-Disney Guy\n\n\n\nKeynote: Making your business magical!!\n\n\n\n\n\n________________________________________
X-ALT-DESC;FMTTYPE=text/html:<br />\n<span style="font-family: times new roman"><span style="font-size: 14px"><em>Please make plans to attend the</em></span><br />\n<span style="font-size: 20px"><strong>Reidsville Chamber of Commerce</strong><br />\n<span style="color: rgb(0\,0\,255)"><strong>Annual Awards Banquet</strong></span></span><br />\n<br />\n<span style="font-size: 18px"><strong>Wednesday\, February 1st<br />\n@ 12:00 Noon</strong></span><br />\n<br />\n<span style="font-size: 16px">Pennrose Park Country Club<br />\n1622 Country Club Road</span><br />\n<br />\n<span style="font-size: 24px">Keynote Speaker: John Formica\, An Ex-Disney Guy<br />\n<br />\nKeynote: Making your business magical!!</span><br />\n<br />\n<br />\n________________________________________<br />\n<span _fck_bookmark="1" style="display: none">&nbsp\;</span></span>
LOCATION:
UID:e.111.2116
SEQUENCE:3
DTSTAMP:20260421T162536Z
URL:https://business.reidsvillechamber.org/events/details/2012-reidsville-chamber-of-commerce-annual-awards-luncheon-02-01-2012-2116
END:VEVENT

END:VCALENDAR
