BEGIN:VCALENDAR
VERSION:2.0
PRODID:-//ChamberMaster//Event Calendar 2.0//EN
METHOD:PUBLISH
X-PUBLISHED-TTL:P3D
REFRESH-INTERVAL:P3D
CALSCALE:GREGORIAN
BEGIN:VEVENT
DTSTART:20261017T170000Z
DTEND:20270227T200000Z
X-MICROSOFT-CDO-ALLDAYEVENT:FALSE
SUMMARY:2026-2027 Season Ticket Pass
DESCRIPTION:2026-2027 Season Ticket Pass\n\nUnlock Endless Excitement with Our Season Pass!\n\nWelcome to the heart-pounding world of the 2026-2027 Season Ticket Pass! Get ready to embark on a whirlwind of unforgettable experiences as you secure your access to a year full of excitement.\n\n \n\n**Get your 2026-2027 Season Ticket Pass now and ignite your sense of adventure!**
X-ALT-DESC;FMTTYPE=text/html:<h1><strong>2026-2027 Season Ticket Pass</strong></h1>\n\n<p>Unlock Endless Excitement with Our Season Pass!</p>\n\n<p>Welcome to the heart-pounding world of the 2026-2027 Season Ticket Pass! Get ready to embark on a whirlwind of unforgettable experiences as you secure your access to a year full of excitement.</p>\n\n<p>&nbsp\;</p>\n\n<p>**Get your 2026-2027 Season Ticket Pass now and ignite your sense of adventure!**</p>\n\n<div>&nbsp\;</div>\n\n<p><br />\n&nbsp\;</p>\n
LOCATION:Reidsville Recreational Center 201 N. Washington Ave Reidsville\, NC 27320
UID:e.111.11175
SEQUENCE:3
DTSTAMP:20260420T213029Z
URL:https://business.reidsvillechamber.org/events/details/2025-2026-season-ticket-pass-11175
END:VEVENT

END:VCALENDAR
