BEGIN:VCALENDAR
VERSION:2.0
PRODID:-//ChamberMaster//Event Calendar 2.0//EN
METHOD:PUBLISH
X-PUBLISHED-TTL:P3D
REFRESH-INTERVAL:P3D
CALSCALE:GREGORIAN
BEGIN:VEVENT
DTSTART;VALUE=DATE:20100518
DTEND;VALUE=DATE:20100519
TRANSP:TRANSPARENT
X-MICROSOFT-CDO-ALLDAYEVENT:TRUE
SUMMARY:21st Annual RCC Foundation Captain's Choice Tournament
DESCRIPTION:Captain's Choice TournamentTuesday\, May 18\, 2010Oak Hills Golf Club\, Eden\, NCEntry Deadline: May 10\, 2010Entry Fee: $100.00For additional registration or sponsorship information call:RCC Development Office336-342-4261\, ext. 2141
X-ALT-DESC;FMTTYPE=text/html:<div><b><font face="CalifornianFB-Bold" color="#231f20" size="5"><font face="CalifornianFB-Bold" color="#231f20" size="5"><font face="CalifornianFB-Bold" color="#231f20" size="5"><p style="text-align: center">Captain&rsquo\;s Choice Tournament</p><p style="text-align: center">Tuesday\, May 18\, 2010</p><p style="text-align: center">Oak Hills Golf Club\, Eden\, NC</p></font></font></font></b></div><div><font face="CalifornianFB-Bold" size="5"><font face="CalifornianFB-Bold" size="5"><p style="text-align: center">Entry Deadline: May 10\, 2010</p><p style="text-align: center">Entry Fee: $100.00</p><font face="PalatinoLinotype-Roman" color="#231f20" size="3"><font face="PalatinoLinotype-Roman" color="#231f20" size="3"><font face="PalatinoLinotype-Roman" color="#231f20" size="3"><p style="text-align: center">For additional registration or sponsorship information call:</p><p style="text-align: center">RCC Development Office</p><p style="text-align: center">336-342-4261\, ext. 2141</p></font></font></font></font></font></div>
LOCATION:
UID:e.111.1367
SEQUENCE:3
DTSTAMP:20260424T132457Z
URL:https://business.reidsvillechamber.org/events/details/21st-annual-rcc-foundation-captain-s-choice-tournament-05-18-2010-1367
END:VEVENT

END:VCALENDAR
