BEGIN:VCALENDAR
VERSION:2.0
PRODID:-//ChamberMaster//Event Calendar 2.0//EN
METHOD:PUBLISH
X-PUBLISHED-TTL:P3D
REFRESH-INTERVAL:P3D
CALSCALE:GREGORIAN
BEGIN:VEVENT
DTSTART;VALUE=DATE:20110519
DTEND;VALUE=DATE:20110520
TRANSP:TRANSPARENT
X-MICROSOFT-CDO-ALLDAYEVENT:TRUE
SUMMARY:22nd Annual RCC Foundation Benefit Golf Tournament
DESCRIPTION:Click Here for Tournament Brochure!
X-ALT-DESC;FMTTYPE=text/html:<a href="http://cloud.chambermaster.com/userfiles/UserFiles/chambers/111/File/2011%20golf%20brochure.pdf"><br />\nClick Here for Tournament Brochure!</a>
LOCATION:
UID:e.111.1910
SEQUENCE:3
DTSTAMP:20260423T182421Z
URL:https://business.reidsvillechamber.org/events/details/22nd-annual-rcc-foundation-benefit-golf-tournament-05-19-2011-1910
END:VEVENT

END:VCALENDAR
