BEGIN:VCALENDAR
VERSION:2.0
PRODID:-//ChamberMaster//Event Calendar 2.0//EN
METHOD:PUBLISH
X-PUBLISHED-TTL:P3D
REFRESH-INTERVAL:P3D
CALSCALE:GREGORIAN
BEGIN:VEVENT
DTSTART;VALUE=DATE:20111108
DTEND;VALUE=DATE:20111205
TRANSP:TRANSPARENT
X-MICROSOFT-CDO-ALLDAYEVENT:TRUE
SUMMARY:27th Annual Tree of Hope Fundraiser
DESCRIPTION:Tree of Hope Forms Available  The Annie Penn Hospital Auxiliary will sponsor is 27th annual "Tree of Hope" fundraiser during the holiday season. Individuals or groups may purchase lights in memory or honor of a loved one or friend. The name of those honored will be written on the windows in the hospital lobby. The cost of the lights is $5.00 and $25.00 for a "twinkling light".  Acknowledgements will be sent to the recipients or family. Forms will be available beginning November 8th at Annie Penn Hospital information desks\, as well as area churches. This year's Lighting Ceremony will be held on Sunday\, December 4\, at 4:00 p.m. in the hospital cafeteria. For more information\, please call 951-4595.All profits will be used to fund equipment for Annie Penn Hospital.
X-ALT-DESC;FMTTYPE=text/html:<font color="#000000"><font face="Times New Roman"><span style="font-size: 12pt\; font-family: calibri\; mso-fareast-font-family: 'times new roman'\; mso-bidi-font-family: 'courier new'\; mso-ansi-language: en-us\; mso-fareast-language: en-us\; mso-bidi-language: ar-sa"><strong>Tree of Hope Forms Available &ndash\;The Annie Penn Hospital Auxiliary will sponsor is 27<sup>th</sup> annual </strong></span><span style="font-size: 12pt\; font-family: calibri\; mso-fareast-font-family: 'times new roman'\; mso-bidi-font-family: 'times new roman'\; mso-ansi-language: en-us\; mso-fareast-language: en-us\; mso-bidi-language: ar-sa">&ldquo\;Tree of Hope&rdquo\; fundraiser during the holiday season. Individuals or groups may purchase lights in memory or honor of a loved one or friend. The name of those honored will be written on the windows in the hospital lobby. The cost of the lights is $5.00 and $25.00 for a &ldquo\;twinkling light&rdquo\;.<span style="mso-spacerun: yes">&nbsp\; </span>Acknowledgements will be sent to the recipients or family. Forms will be available beginning November 8<sup>th</sup> at Annie Penn Hospital information desks\, as well as area churches. This year&rsquo\;s Lighting Ceremony will be held on <b>Sunday\, December 4\,</b> at 4:00 p.m. in the hospital cafeteria. For more information\, please call 951-4595.All profits will be used to fund equipment for Annie Penn Hospital.</span></font></font>
LOCATION:Annie Penn Hospital
UID:e.111.2056
SEQUENCE:3
DTSTAMP:20260421T175020Z
URL:https://business.reidsvillechamber.org/events/details/27th-annual-tree-of-hope-fundraiser-11-08-2011-2056
END:VEVENT

END:VCALENDAR
