BEGIN:VCALENDAR
VERSION:2.0
PRODID:-//ChamberMaster//Event Calendar 2.0//EN
METHOD:PUBLISH
X-PUBLISHED-TTL:P3D
REFRESH-INTERVAL:P3D
CALSCALE:GREGORIAN
BEGIN:VEVENT
DTSTART;VALUE=DATE:20100731
DTEND;VALUE=DATE:20100801
TRANSP:TRANSPARENT
X-MICROSOFT-CDO-ALLDAYEVENT:TRUE
SUMMARY:2nd Annual TOUR OF REIDSVILLE
DESCRIPTION:Downtown Reidsville Bicycle Race hosted byReidsville Bicycle
X-ALT-DESC;FMTTYPE=text/html:<div>Downtown Reidsville Bicycle Race hosted by</div><div>Reidsville Bicycle</div>
LOCATION:
UID:e.111.1316
SEQUENCE:3
DTSTAMP:20260424T103732Z
URL:https://business.reidsvillechamber.org/events/details/2nd-annual-tour-of-reidsville-07-31-2010-1316
END:VEVENT

END:VCALENDAR
