BEGIN:VCALENDAR
VERSION:2.0
PRODID:-//ChamberMaster//Event Calendar 2.0//EN
METHOD:PUBLISH
X-PUBLISHED-TTL:P3D
REFRESH-INTERVAL:P3D
CALSCALE:GREGORIAN
BEGIN:VEVENT
DTSTART:20110521T170000Z
DTEND:20110521T210000Z
X-MICROSOFT-CDO-ALLDAYEVENT:FALSE
SUMMARY:3rd Annual "Shaggin' in the Vines" Beach Music Benefit
DESCRIPTION:Hospice of Rockingham County will host its 3rd Annual "Shaggin' in the Vines" Beach Music Benefit at Autumn Creek Vineyards on Saturday\, May 21st from 1:00pm - 5:00pm.  This year's benefit will feature the music of The Impacts and Mark Roberts & Breeze.  Food and beverages will be available for purchase but picnic baskets are welcome\; no outside coolers or beverages will be allowed.
X-ALT-DESC;FMTTYPE=text/html:Hospice of Rockingham County will host its 3rd Annual "Shaggin' in the Vines" Beach Music Benefit at Autumn Creek Vineyards on Saturday\, May 21st from 1:00pm - 5:00pm.  This year's benefit will feature the music of The Impacts and Mark Roberts &amp\; Breeze.  Food and beverages will be available for purchase but picnic baskets are welcome\; no outside coolers or beverages will be allowed.
LOCATION:Autumn Creek Vineyards 364 Means Creek Rd. Mayodan\, NC 27027
UID:e.111.1894
SEQUENCE:3
DTSTAMP:20260423T170520Z
URL:https://business.reidsvillechamber.org/events/details/3rd-annual-shaggin-in-the-vines-beach-music-benefit-05-21-2011-1894
END:VEVENT

END:VCALENDAR
