BEGIN:VCALENDAR
VERSION:2.0
PRODID:-//ChamberMaster//Event Calendar 2.0//EN
METHOD:PUBLISH
X-PUBLISHED-TTL:P3D
REFRESH-INTERVAL:P3D
CALSCALE:GREGORIAN
BEGIN:VEVENT
DTSTART;VALUE=DATE:20110626
DTEND;VALUE=DATE:20110627
TRANSP:TRANSPARENT
X-MICROSOFT-CDO-ALLDAYEVENT:TRUE
SUMMARY:3rd Annual Tour of Reidsville Bicycle Race
DESCRIPTION:Hundreds of Amateur and Professional Bicycle racers will compete on the streets of Downtown Reidsville for cash\, prizes\, and the title of "Tour of Reidsville Champion." The race course circles through Scales\, Morehead\, SW Market\, and Settle streets. Pick a spot along the course and watch all the exciting action. You'll have a great day!
X-ALT-DESC;FMTTYPE=text/html:Hundreds of Amateur and Professional Bicycle racers will compete on the streets of Downtown Reidsville for cash\, prizes\, and the title of &quot\;Tour of Reidsville Champion.&quot\; The race course circles through Scales\, Morehead\, SW Market\, and Settle streets. Pick a spot along the course and watch all the exciting action. You&#39\;ll have a great day!
LOCATION:Start/Finish @ Scales & Gilmer Streets
UID:e.111.1951
SEQUENCE:3
DTSTAMP:20260423T152506Z
URL:https://business.reidsvillechamber.org/events/details/3rd-annual-tour-of-reidsville-bicycle-race-06-26-2011-1951
END:VEVENT

END:VCALENDAR
