BEGIN:VCALENDAR
VERSION:2.0
PRODID:-//ChamberMaster//Event Calendar 2.0//EN
METHOD:PUBLISH
X-PUBLISHED-TTL:P3D
REFRESH-INTERVAL:P3D
CALSCALE:GREGORIAN
BEGIN:VEVENT
DTSTART;VALUE=DATE:20111021
DTEND;VALUE=DATE:20111022
TRANSP:TRANSPARENT
X-MICROSOFT-CDO-ALLDAYEVENT:TRUE
SUMMARY:4th Annual Rockingham County PINK Day
DESCRIPTION:October is Breast Cancer Awareness Month\n\n\n\nJoin Us for Rockingham County PINK Day on Friday\, October 21st\n\n\n\nShow your support by making a donation to wear pink to work on this day and proceeds will benefit the American Cancer Society and its breast cancer research projects in North Carolina.  To register your business or organization's participation\, please contact the American Cancer Society at 336.834.0844.
X-ALT-DESC;FMTTYPE=text/html:October is Breast Cancer Awareness Month<br />\n<br />\nJoin Us for Rockingham County PINK Day on Friday\, October 21st<br />\n<br />\nShow your support by making a donation to wear pink to work on this day and proceeds will benefit the American Cancer Society and its breast cancer research projects in North Carolina.&nbsp\; To register your business or organization&#39\;s participation\, please contact the American Cancer Society at 336.834.0844.
LOCATION:Rockingham County
UID:e.111.2043
SEQUENCE:3
DTSTAMP:20260423T084201Z
URL:https://business.reidsvillechamber.org/events/details/4th-annual-rockingham-county-pink-day-10-21-2011-2043
END:VEVENT

END:VCALENDAR
