BEGIN:VCALENDAR
VERSION:2.0
PRODID:-//ChamberMaster//Event Calendar 2.0//EN
METHOD:PUBLISH
X-PUBLISHED-TTL:P3D
REFRESH-INTERVAL:P3D
CALSCALE:GREGORIAN
BEGIN:VEVENT
DTSTART:20101106T140000Z
DTEND:20101106T220000Z
X-MICROSOFT-CDO-ALLDAYEVENT:FALSE
SUMMARY:5th Annual Fall Festival and Gatsby Day @ Chinqua Penn Plantation and Vineyard
DESCRIPTION:Chinqua Penn Plantation and Vineyard's\n\n	5th Annual Fall Festival and Gatsby Day Celebration  \n\n	  Saturday\, November 6th from 10 am to 5 pm\n\n	\n\n	Enjoy the beauty and elegance of the 1920's with fun for the entire family.  Delight in the vocal stylings of Jessica Mashburn as she shares her eclectic piano rock style with influences ranging from jazz to country and classic rock to old-time favourites.  Mashburn is a classically trained musician who is a regular in the Greensboro music scene and has toured the east coast with two major Top 40 bands.  The festival features a 1920's costume contest with door prizes given for the top three costumes.  Wear your roaring 20's flapper dresses and zoot suits if you like or whatever is comfortable for an autumn festival.  Classic cars will be on display on the grounds as well as a wide variety of fine arts exhibitors and crafts people with their wares for sale.  The Disabled American Veterans\, a regular at the festival\, will be serving their famous Brunswick Stew and Barbeque along with homemade sweets.  Funnel cakes\, candy apples\, hot dogs\, hot chocolate and more will be available to delight the tastes of young and old.  Kids activities include pony rides\, face-painting and panning for treasures.    Free hayrides of the surrounding Upper Piedmont Research station will be offered hourly.   \n\n	Admission to the festival is free.  \n\n	Mansion Tours are at a discounted rate for all adults just $15 (usually $20)\, youths ages 6   16 are $10\, and kids under 5 are free.  \n\n	The wine tasting room opens at 12 noon\; wine sales by the bottle and by the glass\, tastings of the collection are $5.\n\n	\n\n	For more information\, call 336-349-4576 or visit chinquapenn.com.
X-ALT-DESC;FMTTYPE=text/html:<p style="text-align: center\;">\n	<span style="font-size: 22px\;"><span style="color: black\;"><span style="font-family: georgia\;">&nbsp\;</span></span><span style="color: rgb(0\, 0\, 205)\;"><span style="font-family: georgia\;"><strong>Chinqua Penn Plantation and Vineyard&rsquo\;s</strong></span></span></span><span style="color: rgb(165\, 42\, 42)\;"><span style="font-size: 24px\;"><span style="font-family: georgia\;"><br />\n	<em><strong>5th Annual Fall Festival and Gatsby Day Celebration</strong></em>&nbsp\; </span></span></span></p>\n<p style="text-align: center\;">\n	<span style="font-size: 14px\;"><span style="color: black\;"><span style="font-family: georgia\;">&nbsp\;<strong><span style="background-color: rgb(255\, 255\, 0)\;"> Saturday\, November 6th </span><span style="background-color: rgb(255\, 255\, 0)\;">from 10 am to 5 pm</span></strong></span></span></span></p>\n<p>\n	<br />\n	<span style="font-family: times new roman\;"><span style="color: black\;">Enjoy the beauty and elegance of the 1920&rsquo\;s with fun for the entire family.&nbsp\; Delight in the vocal stylings of <strong>Jessica Mashburn</strong> as she shares her eclectic piano rock style with influences ranging from jazz to country and classic rock to old-time favourites.&nbsp\; Mashburn is a classically trained musician who is a regular in the Greensboro music scene and has toured the east coast with two major Top 40 bands.&nbsp\; The festival features a<strong> 1920&rsquo\;s costume contest </strong>with door prizes given for the top three costumes.&nbsp\; Wear your roaring 20&rsquo\;s flapper dresses and zoot suits if you like or whatever is comfortable for an autumn festival.&nbsp\;<strong> Classic cars </strong>will be on display on the grounds as well as a wide variety of fine arts exhibitors and crafts people with their wares for sale.&nbsp\; <strong>The Disabled American Veterans\,</strong> a regular at the festival\, will be serving their famous Brunswick Stew and Barbeque along with homemade sweets.&nbsp\; Funnel cakes\, candy apples\, hot dogs\, hot chocolate and more will be available to delight the tastes of young and old.&nbsp\; Kids activities include pony rides\, face-painting and panning for treasures.&nbsp\;&nbsp\;&nbsp\; Free hayrides of the surrounding Upper Piedmont Research station will be offered hourly.&nbsp\;&nbsp\; </span></span></p>\n<p style="text-align: center\;">\n	<span style="font-family: times new roman\;"><span style="color: black\;"><strong>Admission to the festival is free.&nbsp\; </strong><br />\n	<strong>Mansion Tours</strong> are at a discounted rate for all adults just $15 (usually $20)\, youths ages 6 &ndash\; 16 are $10\, and kids under 5 are free.&nbsp\;&nbsp\;<br />\n	The <strong>wine tasting room</strong> opens at 12 noon\; wine sales by the bottle and by the glass\, tastings of the collection are $5.</span><br />\n	<br />\n	<span style="font-size: 14px\;">For more information\, call <strong>336-349-4576</strong> or visit <strong>chinquapenn.com.</strong></span></span></p>\n
LOCATION:
UID:e.111.1536
SEQUENCE:3
DTSTAMP:20260424T023157Z
URL:https://business.reidsvillechamber.org/events/details/5th-annual-fall-festival-and-gatsby-day-chinqua-penn-plantation-and-vineyard-11-06-2010-1536
END:VEVENT

END:VCALENDAR
