BEGIN:VCALENDAR
VERSION:2.0
PRODID:-//ChamberMaster//Event Calendar 2.0//EN
METHOD:PUBLISH
X-PUBLISHED-TTL:P3D
REFRESH-INTERVAL:P3D
CALSCALE:GREGORIAN
BEGIN:VEVENT
DTSTART:20120428T133000Z
DTEND:20120428T160000Z
X-MICROSOFT-CDO-ALLDAYEVENT:FALSE
SUMMARY:6th Annual Hospice Doves' "Walk to Remember"
DESCRIPTION:The Hospice Doves of Hospice of Rockingham County\, Inc. invite the public to participate in their 6th Annual "Walk to Remember" on Saturday\, April 28th.  This is a 2-mile benefit walk held on the Upper Piedmont Research Station Walking Trail at Chinqua-Penn Plantation.\n\n\n\nOn-site registration will begin at 9:30am and the walk will begin at 10:00am.  Walkers may form teams to walk and raise money in honor or memory of a loved one.  Participants are asked to donate or raise at least $25.00 each.  Proceeds from the Walk to Remember will help offset the cost of uninsured patient care.\n\n\n\nRefreshments will be available on the walking trail at the mid-way point as well as at the picnic shelter afterwards\;  hotdogs will be available for puchase.  Doorprizes will also be awarded to participants after the walk.\n\n\n\nFor additional information\, contact Barbara Moore at Hospice of Rockingham County at (336) 427-9026\, ext. 402 or via email at bmhospice@triadbiz.rr.com.
X-ALT-DESC;FMTTYPE=text/html:The Hospice Doves of Hospice of Rockingham County\, Inc. invite the public to participate in their 6th Annual &quot\;Walk to Remember&quot\; on Saturday\, April 28th. &nbsp\;This is a 2-mile benefit walk held on the Upper Piedmont Research Station Walking Trail at Chinqua-Penn Plantation.<br />\n<br />\nOn-site registration will begin at 9:30am and the walk will begin at 10:00am. &nbsp\;Walkers may form teams to walk and raise money in honor or memory of a loved one. &nbsp\;Participants are asked to donate or raise at least $25.00 each. &nbsp\;Proceeds from the Walk to Remember will help offset the cost of uninsured patient care.<br />\n<br />\nRefreshments will be available on the walking trail at the mid-way point as well as at the picnic shelter afterwards\;&nbsp\;&nbsp\;hotdogs will be available for puchase. &nbsp\;Doorprizes will also be awarded to participants after the walk.<br />\n<br />\nFor additional information\, contact Barbara Moore at Hospice of Rockingham County at (336) 427-9026\, ext. 402 or via email at bmhospice@triadbiz.rr.com.
LOCATION:Upper Piedmont Research Station Walking Trail Chinqua-Penn Plantation 2138 Wentworth Street Reidsville\, NC 27320
UID:e.111.2162
SEQUENCE:3
DTSTAMP:20260421T130603Z
URL:https://business.reidsvillechamber.org/events/details/6th-annual-hospice-doves-walk-to-remember-04-28-2012-2162
END:VEVENT

END:VCALENDAR
