BEGIN:VCALENDAR
VERSION:2.0
PRODID:-//ChamberMaster//Event Calendar 2.0//EN
METHOD:PUBLISH
X-PUBLISHED-TTL:P3D
REFRESH-INTERVAL:P3D
CALSCALE:GREGORIAN
BEGIN:VEVENT
DTSTART:20100917T210000Z
DTEND:20100917T230000Z
X-MICROSOFT-CDO-ALLDAYEVENT:FALSE
SUMMARY:A Cup of Blues
DESCRIPTION:North Carolina's Only\n\nThree-Piece Duo \n\nA Cup of Blues\n\n \n\nOne of the hottest duos in the Piedmont Triad area\, A CUP OF BLUES generates energy and excitement everywhere they perform. \n\n \n\nThis Three Piece Duo\, yes I said this three piece duo\, is comprised of two seasoned musicians\, guitarist Mike Curly  Carter and bass guitarist Casey T-Case the Bass  Hazelman\, and pictured at bottom is Amos  Baxter.  He plays a vintage electric rhythm machine.  He's definitely a crowd pleaser.
X-ALT-DESC;FMTTYPE=text/html:North Carolina's Only\n<br>Three-Piece Duo \n<br>A Cup of Blues\n<br> \n<br>One of the hottest duos in the Piedmont Triad area\, A CUP OF BLUES generates energy and excitement everywhere they perform. \n<br> \n<br>This Three Piece Duo\, yes I said this three piece duo\, is comprised of two seasoned musicians\, guitarist Mike Curly  Carter and bass guitarist Casey T-Case the Bass  Hazelman\, and pictured at bottom is Amos  Baxter.  He plays a vintage electric rhythm machine.  He's definitely a crowd pleaser. 
LOCATION:WayCup Coffee
UID:e.111.1509
SEQUENCE:3
DTSTAMP:20260424T053133Z
URL:https://business.reidsvillechamber.org/events/details/a-cup-of-blues-09-17-2010-1509
END:VEVENT

END:VCALENDAR
