BEGIN:VCALENDAR
VERSION:2.0
PRODID:-//ChamberMaster//Event Calendar 2.0//EN
METHOD:PUBLISH
X-PUBLISHED-TTL:P3D
REFRESH-INTERVAL:P3D
CALSCALE:GREGORIAN
BEGIN:VEVENT
DTSTART:20111218T190000Z
DTEND:20111218T210000Z
X-MICROSOFT-CDO-ALLDAYEVENT:FALSE
SUMMARY:A Simple Christmas Concert & Sharing of God's Love
DESCRIPTION:Performed by Pastor Sandy Johnson and congregation of the RAPHA Center from Madison\, N.C. The concert will be held in the Penn Nursing Center Dining Room on Sunday\, December 18th\, at 2:00 p.m. The public is invited to attend.
X-ALT-DESC;FMTTYPE=text/html:<span style="font-size: 10pt\; font-family: calibri\; mso-fareast-font-family: 'times new roman'\; mso-bidi-font-family: 'times new roman'\; mso-ansi-language: en-us\; mso-fareast-language: en-us\; mso-bidi-language: ar-sa"><font color="#000000" face="Times New Roman">Performed by Pastor Sandy Johnson and congregation of the RAPHA Center from Madison\, N.C. The concert will be held in the Penn Nursing Center Dining Room on Sunday\, December 18<sup>th</sup>\, at 2:00 p.m. The public is invited to attend. </font></span>
LOCATION:Annie Penn Hospital
UID:e.111.2078
SEQUENCE:3
DTSTAMP:20260421T193147Z
URL:https://business.reidsvillechamber.org/events/details/a-simple-christmas-concert-sharing-of-god-s-love-12-18-2011-2078
END:VEVENT

END:VCALENDAR
