BEGIN:VCALENDAR
VERSION:2.0
PRODID:-//ChamberMaster//Event Calendar 2.0//EN
METHOD:PUBLISH
X-PUBLISHED-TTL:P3D
REFRESH-INTERVAL:P3D
CALSCALE:GREGORIAN
BEGIN:VEVENT
DTSTART:20100514T223000Z
DTEND:20100515T023000Z
X-MICROSOFT-CDO-ALLDAYEVENT:FALSE
SUMMARY:Academy of Dance Recital
DESCRIPTION:Annual Dance Recital
X-ALT-DESC;FMTTYPE=text/html:<div>Annual Dance Recital</div>
LOCATION:Reidsville High School Auditorium
UID:e.111.1390
SEQUENCE:3
DTSTAMP:20260424T132403Z
URL:https://business.reidsvillechamber.org/events/details/academy-of-dance-recital-05-14-2010-1390
END:VEVENT

END:VCALENDAR
