BEGIN:VCALENDAR
VERSION:2.0
PRODID:-//ChamberMaster//Event Calendar 2.0//EN
METHOD:PUBLISH
X-PUBLISHED-TTL:P3D
REFRESH-INTERVAL:P3D
CALSCALE:GREGORIAN
BEGIN:VEVENT
DTSTART:20110521T200000Z
DTEND:20110522T000000Z
X-MICROSOFT-CDO-ALLDAYEVENT:FALSE
SUMMARY:Academy of Dance Recital
DESCRIPTION:Academy of Dance presents "Academy Review".
X-ALT-DESC;FMTTYPE=text/html:Academy of Dance presents &quot\;Academy Review&quot\;.&nbsp\; 
LOCATION:Reidsville High School Auditorium
UID:e.111.1924
SEQUENCE:3
DTSTAMP:20260423T170337Z
URL:https://business.reidsvillechamber.org/events/details/academy-of-dance-recital-05-21-2011-1924
END:VEVENT

END:VCALENDAR
