BEGIN:VCALENDAR
VERSION:2.0
PRODID:-//ChamberMaster//Event Calendar 2.0//EN
METHOD:PUBLISH
X-PUBLISHED-TTL:P3D
REFRESH-INTERVAL:P3D
CALSCALE:GREGORIAN
BEGIN:VEVENT
DTSTART:20111201T223000Z
DTEND:20111202T000000Z
X-MICROSOFT-CDO-ALLDAYEVENT:FALSE
SUMMARY:Advance Directive Session
DESCRIPTION:This session will be held from 5:30   7:00 p.m. in the Annie Penn Hospital lobby at the Main Entrance. This informational session will review making end-of-life decisions\, and will include assistance with completing Advance Directives\, including a Living Will and Health Care Power of Attorney. Registration is required. Please call 951-4674 to register. The session is free and open to the public.
X-ALT-DESC;FMTTYPE=text/html:<p class="MsoNormal" style="margin: 0in 0in 0pt">\n	<span style="font-family: calibri"><font color="#000000" face="Times New Roman" size="2">This session will be held from 5:30 &ndash\; 7:00 p.m. in the Annie Penn Hospital lobby at the Main Entrance. This informational session will review making end-of-life decisions\, and will include assistance with completing Advance Directives\, including a Living Will and Health Care Power of Attorney. Registration is required. Please call 951-4674 to register. The session is free and open to the public.</font></span><b style="mso-bidi-font-weight: normal"><span style="font-family: arial"><o:p></o:p></span></b></p>\n
LOCATION:Annie Penn Hospital
UID:e.111.2067
SEQUENCE:3
DTSTAMP:20260421T174125Z
URL:https://business.reidsvillechamber.org/events/details/advance-directive-session-12-01-2011-2067
END:VEVENT

END:VCALENDAR
