BEGIN:VCALENDAR
VERSION:2.0
PRODID:-//ChamberMaster//Event Calendar 2.0//EN
METHOD:PUBLISH
X-PUBLISHED-TTL:P3D
REFRESH-INTERVAL:P3D
CALSCALE:GREGORIAN
BEGIN:VEVENT
DTSTART:20101104T210000Z
DTEND:20101104T210000Z
X-MICROSOFT-CDO-ALLDAYEVENT:FALSE
SUMMARY:Advanced Directives Information Session
DESCRIPTION:Educatonal and Information session on end of life decisions\, focusing on Advance Directives. Session will be led by Patricia Wright\, Chaplain\, Annie Penn Hospital. Registration is needed. Please call 951-4674 to register\, or for more information.
X-ALT-DESC;FMTTYPE=text/html:Educatonal and Information session on end of life decisions\, focusing on Advance Directives. Session will be led by Patricia Wright\, Chaplain\, Annie Penn Hospital. Registration is needed. Please call 951-4674 to register\, or for more information.
LOCATION:Womankind Center on the hospital's 4th floor
UID:e.111.1539
SEQUENCE:3
DTSTAMP:20260424T022522Z
URL:https://business.reidsvillechamber.org/events/details/advanced-directives-information-session-11-04-2010-1539
END:VEVENT

END:VCALENDAR
