BEGIN:VCALENDAR
VERSION:2.0
PRODID:-//ChamberMaster//Event Calendar 2.0//EN
METHOD:PUBLISH
X-PUBLISHED-TTL:P3D
REFRESH-INTERVAL:P3D
CALSCALE:GREGORIAN
BEGIN:VEVENT
DTSTART:20141125T190000Z
DTEND:20141126T010000Z
X-MICROSOFT-CDO-ALLDAYEVENT:FALSE
SUMMARY:Affordable Health Insurance Sign Up Event
DESCRIPTION:NC Health Care is hosting several enrollment events. Please join us for the opportunity for FREE assistance in enrolling for the 2015 Affordable Health Insurance Enrollment period. You may get FREE or greatly reduced health insurance! The enrollment only lasts from November 15th ?February 15th. We will have several In Person Assisters onsite to help guide you through the process.
X-ALT-DESC;FMTTYPE=text/html:NC Health Care is hosting several enrollment events. Please join us for the opportunity for FREE assistance in enrolling for the 2015 Affordable Health Insurance Enrollment period. You may get FREE or greatly reduced health insurance! The enrollment only lasts from November 15th ?February 15th. We will have several In Person Assisters onsite to help guide you through the process.
LOCATION:First Baptist Church of Reidsville 409 S Main St. Reidsville\, NC 27320
UID:e.111.2938
SEQUENCE:3
DTSTAMP:20260422T181342Z
URL:https://business.reidsvillechamber.org/events/details/affordable-health-insurance-sign-up-event-11-25-2014-2938
END:VEVENT

END:VCALENDAR
