BEGIN:VCALENDAR
VERSION:2.0
PRODID:-//ChamberMaster//Event Calendar 2.0//EN
METHOD:PUBLISH
X-PUBLISHED-TTL:P3D
REFRESH-INTERVAL:P3D
CALSCALE:GREGORIAN
BEGIN:VEVENT
DTSTART:20141129T150000Z
DTEND:20141129T230000Z
X-MICROSOFT-CDO-ALLDAYEVENT:FALSE
SUMMARY:Affordable Health Insurance Sign Up Event
DESCRIPTION:NC Health Care is hosting several enrollment events. Please join us for the opportunity for FREE assistance in enrolling for the 2015 Affordable Health Insurance Enrollment period. You may get FREE or greatly reduced health insurance! The enrollment only lasts from November 15th ?February 15th. We will have several In Person Assisters onsite to help guide you through the process.
X-ALT-DESC;FMTTYPE=text/html:NC Health Care is hosting several enrollment events. Please join us for the opportunity for FREE assistance in enrolling for the 2015 Affordable Health Insurance Enrollment period. You may get FREE or greatly reduced health insurance! The enrollment only lasts from November 15th ?February 15th. We will have several In Person Assisters onsite to help guide you through the process.
LOCATION:Salvation Army Community Center 704 Barnes St. Reidsville\, NC 27320
UID:e.111.2940
SEQUENCE:3
DTSTAMP:20260422T162512Z
URL:https://business.reidsvillechamber.org/events/details/affordable-health-insurance-sign-up-event-11-29-2014-2940
END:VEVENT

END:VCALENDAR
