BEGIN:VCALENDAR
VERSION:2.0
PRODID:-//ChamberMaster//Event Calendar 2.0//EN
METHOD:PUBLISH
X-PUBLISHED-TTL:P3D
REFRESH-INTERVAL:P3D
CALSCALE:GREGORIAN
BEGIN:VEVENT
DTSTART:20141202T143000Z
DTEND:20141202T220000Z
X-MICROSOFT-CDO-ALLDAYEVENT:FALSE
SUMMARY:Affordable Health Insurance Sign Up Event
DESCRIPTION:
X-ALT-DESC;FMTTYPE=text/html:
LOCATION:The Mayo Diner LLC 211 W Main St\; Mayodan\, NC 27027
UID:e.111.2958
SEQUENCE:3
DTSTAMP:20260422T144739Z
URL:https://business.reidsvillechamber.org/events/details/affordable-health-insurance-sign-up-event-12-02-2014-2958
END:VEVENT

END:VCALENDAR
