BEGIN:VCALENDAR
VERSION:2.0
PRODID:-//ChamberMaster//Event Calendar 2.0//EN
METHOD:PUBLISH
X-PUBLISHED-TTL:P3D
REFRESH-INTERVAL:P3D
CALSCALE:GREGORIAN
BEGIN:VEVENT
DTSTART:20101221T160000Z
DTEND:20101221T220000Z
X-MICROSOFT-CDO-ALLDAYEVENT:FALSE
SUMMARY:Aging\, Disability\, & Transit Services Holiday Open House
DESCRIPTION:HOLIDAY OPEN HOUSE\n\n	Rockingham County Aging\, Disability\, and Transit Services\n\n	105 Lawsonville Avenue\n\n	Reidsville\, NC \n\n	\n\n	December 21\, 2010\n\n	11:00 a.m. - 5:00 p.m.\n\n	\n\n	Open to the public\n\n	Stop by for a visit and refreshments
X-ALT-DESC;FMTTYPE=text/html:<h1 style="text-align: center">\n	<span style="font-size: 26px"><span style="font-family: tahoma"><strong><em><span style="color: #ff0000">HOLIDAY OPEN HOUSE</span></em></strong></span></span></h1>\n<p style="text-align: center">\n	<span style="font-family: verdana"><span style="font-size: 16px"><strong>Rockingham County Aging\, Disability\, and Transit Services<br />\n	105 Lawsonville Avenue<br />\n	Reidsville\, NC&nbsp\;<br />\n	<br />\n	December 21\, 2010<br />\n	11:00 a.m. - 5:00 p.m.<br />\n	<br />\n	<span style="color: #ff0000">Open to the public<br />\n	Stop by for a visit and refreshments</span></strong></span></span></p>\n<p style="text-align: center">\n	&nbsp\;</p>\n<br />\n
LOCATION:
UID:e.111.1556
SEQUENCE:3
DTSTAMP:20260424T004353Z
URL:https://business.reidsvillechamber.org/events/details/aging-disability-transit-services-holiday-open-house-12-21-2010-1556
END:VEVENT

END:VCALENDAR
