BEGIN:VCALENDAR
VERSION:2.0
PRODID:-//ChamberMaster//Event Calendar 2.0//EN
METHOD:PUBLISH
X-PUBLISHED-TTL:P3D
REFRESH-INTERVAL:P3D
CALSCALE:GREGORIAN
BEGIN:VEVENT
DTSTART:20110608T200000Z
DTEND:20110608T220000Z
X-MICROSOFT-CDO-ALLDAYEVENT:FALSE
SUMMARY:"Alice in Wonderland" Tea Party at Academy of Dance
DESCRIPTION:Join Alice\, the Mad Hatter and friends for a fun-filled event featuring an "Alice in Wonderland" Tea Party. \n\nIncluded in this experience is a performance\, games\,dress ups\, paint your own tea cup\, and a real tea party\n\n\n\nRSVP by May 31.
X-ALT-DESC;FMTTYPE=text/html:Join Alice\, the Mad Hatter and friends for a fun-filled event featuring an &quot\;Alice in Wonderland&quot\; Tea Party.&nbsp\;<br />\nIncluded in this experience is a performance\, games\,dress ups\, paint your own tea cup\, and a real tea party<br />\n<br />\nRSVP by May 31.
LOCATION:Academy of Dance Studio 510 Park Lane Reidsville
UID:e.111.1925
SEQUENCE:3
DTSTAMP:20260423T152424Z
URL:https://business.reidsvillechamber.org/events/details/alice-in-wonderland-tea-party-at-academy-of-dance-06-08-2011-1925
END:VEVENT

END:VCALENDAR
