BEGIN:VCALENDAR
VERSION:2.0
PRODID:-//ChamberMaster//Event Calendar 2.0//EN
METHOD:PUBLISH
X-PUBLISHED-TTL:P3D
REFRESH-INTERVAL:P3D
CALSCALE:GREGORIAN
BEGIN:VEVENT
DTSTART:20120326T210000Z
DTEND:20120326T223000Z
X-MICROSOFT-CDO-ALLDAYEVENT:FALSE
SUMMARY:Alzheimer's Disease Basics & The Care Giving Journey
DESCRIPTION:Alzheimer's Disease Basics & The Care Giving Journey\n\n	\n\n	Click Here\n\n	\n\n	Hosted by: Zion Baptist Church \n\n	Location: 807 Piedmont Street \n\n	                Reidsville\, NC 27320 \n\n	 \n\n	Presented by: The Western Carolina \n\n	Chapter of the Alzheimer's Association \n\n	 \n\n	Date /Time: Monday\, March 26th 5:00 to 6:30PM\n\n	\n\n	 \n\n	          For more information or to register: \n\n	Linda Alexander at \n\n	336-349-3380 \n\n	Or \n\n	Scott Herrick \n\n	Western Carolina Alzheimer's Association \n\n	336-285-5920 \n\n	Scott.Herrick@alz.org
X-ALT-DESC;FMTTYPE=text/html:<p style="text-align: center">\n	<strong><span style="font-size: 18px"><span style="font-family: verdana"><span style="color: black">Alzheimer&rsquo\;s Disease Basics &amp\; The Care Giving Journey<br />\n	<br />\n	<span style="font-size: 14px"><a href="http://cloud.chambermaster.com/userfiles/UserFiles/chambers/111/File/AlzheimersDiseaseFlyer.pdf">Click Here</a></span></span></span></span><br />\n	<br />\n	<span style="font-size: 12px"><span style="font-family: verdana"><span style="color: black"><span style="font-family: verdana\,sans-serif">Hosted by: Zion Baptist Church </span><br />\n	<span style="font-family: verdana\,sans-serif">Location: 807 Piedmont Street&nbsp\;</span><br />\n	<span style="font-family: verdana\,sans-serif">&nbsp\;&nbsp\;&nbsp\;&nbsp\;&nbsp\;&nbsp\;&nbsp\;&nbsp\;&nbsp\;&nbsp\;&nbsp\;&nbsp\;&nbsp\;&nbsp\;&nbsp\; Reidsville\, NC 27320 </span><br />\n	&nbsp\;<br />\n	<span style="font-family: verdana\,sans-serif">Presented by: The Western Carolina </span><br />\n	<span style="font-family: verdana\,sans-serif">Chapter of the Alzheimer&rsquo\;s Association </span><br />\n	&nbsp\;<br />\n	<span style="font-family: verdana\,sans-serif">Date /Time: Monday\, March 26th 5:00 to 6:30PM</span></span></span></span><br />\n	</strong></p>\n<p style="text-align: center">\n	<strong><span style="font-size: 18px"><span style="font-family: verdana"><span style="color: black"><span _fck_bookmark="1" style="display: none">&nbsp\;</span></span></span></span></strong></p>\n<p class="Default" style="text-align: center\; margin: 0in 0in 0pt">\n	<strong><span style="font-size: 18px"><span style="font-family: verdana"><span style="color: black"><font size="3"><font color="#000000"><b><span style="font-family: 'verdana'\,'sans-serif'"><span _fck_bookmark="1" style="display: none">&nbsp\;</span><span style="font-size: 12px"><span _fck_bookmark="1" style="display: none">&nbsp\;</span><span _fck_bookmark="1" style="display: none">&nbsp\;</span><span _fck_bookmark="1" style="display: none">&nbsp\;</span><span _fck_bookmark="1" style="display: none">&nbsp\;</span><span _fck_bookmark="1" style="display: none">&nbsp\;</span><span _fck_bookmark="1" style="display: none">&nbsp\;</span><span _fck_bookmark="1" style="display: none">&nbsp\;</span><span _fck_bookmark="1" style="display: none">&nbsp\;</span> For more information or to register: </span></span></b><span style="font-family: 'verdana'\,'sans-serif'"><o:p></o:p></span></font></font></span></span></span></strong></p>\n<p class="Default" style="text-align: center\; margin: 0in 0in 0pt">\n	<strong><span style="font-size: 18px"><span style="font-family: verdana"><span style="color: black"><font size="3"><font color="#000000"><b><span style="font-family: 'verdana'\,'sans-serif'"><span style="font-size: 12px">Linda Alexander at </span></span></b><span style="font-family: 'verdana'\,'sans-serif'"><o:p></o:p></span></font></font></span></span></span></strong></p>\n<p class="Default" style="text-align: center\; margin: 0in 0in 0pt">\n	<strong><span style="font-size: 18px"><span style="font-family: verdana"><span style="color: black"><font size="3"><font color="#000000"><b><span style="font-family: 'verdana'\,'sans-serif'"><span style="font-size: 12px">336-349-3380 </span></span></b><span style="font-family: 'verdana'\,'sans-serif'"><o:p></o:p></span></font></font></span></span></span></strong></p>\n<p class="Default" style="text-align: center\; margin: 0in 0in 0pt">\n	<strong><span style="font-size: 18px"><span style="font-family: verdana"><span style="color: black"><font size="3"><font color="#000000"><b><span style="font-family: 'verdana'\,'sans-serif'"><span style="font-size: 12px">Or </span></span></b><span style="font-family: 'verdana'\,'sans-serif'"><o:p></o:p></span></font></font></span></span></span></strong></p>\n<p class="Default" style="text-align: center\; margin: 0in 0in 0pt">\n	<strong><span style="font-size: 18px"><span style="font-family: verdana"><span style="color: black"><font size="3"><font color="#000000"><b><span style="font-family: 'verdana'\,'sans-serif'"><span style="font-size: 12px">Scott Herrick </span></span></b><span style="font-family: 'verdana'\,'sans-serif'"><o:p></o:p></span></font></font></span></span></span></strong></p>\n<p class="Default" style="text-align: center\; margin: 0in 0in 0pt">\n	<strong><span style="font-size: 18px"><span style="font-family: verdana"><span style="color: black"><font size="3"><font color="#000000"><b><span style="font-family: 'verdana'\,'sans-serif'"><span style="font-size: 12px">Western Carolina Alzheimer&rsquo\;s Association </span></span></b><span style="font-family: 'verdana'\,'sans-serif'"><o:p></o:p></span></font></font></span></span></span></strong></p>\n<p class="Default" style="text-align: center\; margin: 0in 0in 0pt">\n	<strong><span style="font-size: 18px"><span style="font-family: verdana"><span style="color: black"><font size="3"><font color="#000000"><b><span style="font-family: 'verdana'\,'sans-serif'"><span style="font-size: 12px">336-285-5920 </span></span></b><span style="font-family: 'verdana'\,'sans-serif'"><o:p></o:p></span></font></font></span></span></span></strong></p>\n<p class="Default" style="text-align: center\; margin: 0in 0in 0pt">\n	<strong><span style="font-size: 18px"><span style="font-family: verdana"><span style="color: black"><b><span style="font-family: 'verdana'\,'sans-serif'"><font size="3"><font color="#000000"><span style="font-size: 12px">Scott.Herrick@alz.org</span><span style="font-size: 12px"> </span><span _fck_bookmark="1" style="display: none">&nbsp\;</span><o:p></o:p></font></font></span></b></span></span></span></strong></p>\n<strong><span style="font-size: 18px"><span style="font-family: verdana"><span style="color: black"><span _fck_bookmark="1" style="display: none">&nbsp\;</span><span _fck_bookmark="1" style="display: none">&nbsp\;</span><span _fck_bookmark="1" style="display: none">&nbsp\;</span><span _fck_bookmark="1" style="display: none">&nbsp\;</span><span _fck_bookmark="1" style="display: none">&nbsp\;</span><span _fck_bookmark="1" style="display: none">&nbsp\;</span><span _fck_bookmark="1" style="display: none">&nbsp\;</span><span _fck_bookmark="1" style="display: none">&nbsp\;</span><span _fck_bookmark="1" style="display: none">&nbsp\;</span><span _fck_bookmark="1" style="display: none">&nbsp\;</span><span _fck_bookmark="1" style="display: none">&nbsp\;</span><span _fck_bookmark="1" style="display: none">&nbsp\;</span><span _fck_bookmark="1" style="display: none">&nbsp\;</span><span _fck_bookmark="1" style="display: none">&nbsp\;</span><span _fck_bookmark="1" style="display: none">&nbsp\;</span></span></span></span></strong>
LOCATION:Zion Baptist Church 807 Piedmont Street Reidsville\, NC 27320
UID:e.111.2175
SEQUENCE:3
DTSTAMP:20260421T131037Z
URL:https://business.reidsvillechamber.org/events/details/alzheimer-s-disease-basics-the-care-giving-journey-03-26-2012-2175
END:VEVENT

END:VCALENDAR
