BEGIN:VCALENDAR
VERSION:2.0
PRODID:-//ChamberMaster//Event Calendar 2.0//EN
METHOD:PUBLISH
X-PUBLISHED-TTL:P3D
REFRESH-INTERVAL:P3D
CALSCALE:GREGORIAN
BEGIN:VEVENT
DTSTART:20110613T170000Z
DTEND:20110613T183000Z
X-MICROSOFT-CDO-ALLDAYEVENT:FALSE
SUMMARY:Alzheimer"s Support Group
DESCRIPTION:The Penn Nursing Center's Alzheimer's Support Group will hold its monthly meeting on Monday\, June 13\, from 1:00 - 2:30pm\, in the South Day Room of the Penn Nursing Center. Family\, friends\,and caregivers of indiviuals with Alzheimer's are invited to attend.  This group meets on the 2nd Monday of each month. For more information\, please call 9514674
X-ALT-DESC;FMTTYPE=text/html:The Penn Nursing Center&#39\;s Alzheimer&#39\;s Support Group will hold its monthly meeting on Monday\, June 13\, from 1:00 - 2:30pm\, in the South Day Room of the Penn Nursing Center. Family\, friends\,and caregivers of indiviuals with Alzheimer&#39\;s are invited to attend.&nbsp\; This group meets on the 2nd Monday of each month. For more information\, please call 9514674<br />\n
LOCATION:South Day Room of Annie Penn Hospital
UID:e.111.1935
SEQUENCE:3
DTSTAMP:20260423T151656Z
URL:https://business.reidsvillechamber.org/events/details/alzheimer-s-support-group-06-13-2011-1935
END:VEVENT

END:VCALENDAR
