BEGIN:VCALENDAR
VERSION:2.0
PRODID:-//ChamberMaster//Event Calendar 2.0//EN
METHOD:PUBLISH
X-PUBLISHED-TTL:P3D
REFRESH-INTERVAL:P3D
CALSCALE:GREGORIAN
BEGIN:VEVENT
DTSTART:20110808T170000Z
DTEND:20110808T183000Z
X-MICROSOFT-CDO-ALLDAYEVENT:FALSE
SUMMARY:Alzheimer's Support Group
DESCRIPTION:The Penn Nursing Center's Alzheimer's Support Group will hold its monthly meeting on Monday\, August 8th\, from 1:00 - 2:30 pm\, in the South Day Room of the Penn Nursing Center. Family\, friends\, and caregivers of individuals with Alzheimer's are invited to attend. This group meets on the 2nd Monday of each month. For more information\, please call 951-4674.
X-ALT-DESC;FMTTYPE=text/html:<span style="font-size: 11pt\; font-family: calibri\; mso-bidi-font-size: 10.0pt\; mso-fareast-font-family: 'times new roman'\; mso-bidi-font-family: 'times new roman'\; mso-ansi-language: en-us\; mso-fareast-language: en-us\; mso-bidi-language: ar-sa"><font color="#000000" face="Times New Roman">The Penn Nursing Center&rsquo\;s Alzheimer&rsquo\;s Support Group will hold its monthly meeting on <b>Monday\, August 8th\, </b>from 1:00 - 2:30 pm\, in the South Day Room of the Penn Nursing Center. Family\, friends\, and caregivers of individuals with Alzheimer&rsquo\;s are invited to attend. This group meets on the 2<sup>nd</sup> Monday of each month. For more information\, please call 951-4674.</font></span>
LOCATION:Annie Penn Hospital
UID:e.111.1962
SEQUENCE:3
DTSTAMP:20260423T120353Z
URL:https://business.reidsvillechamber.org/events/details/alzheimer-s-support-group-08-08-2011-1962
END:VEVENT

END:VCALENDAR
