BEGIN:VCALENDAR
VERSION:2.0
PRODID:-//ChamberMaster//Event Calendar 2.0//EN
METHOD:PUBLISH
X-PUBLISHED-TTL:P3D
REFRESH-INTERVAL:P3D
CALSCALE:GREGORIAN
BEGIN:VEVENT
DTSTART:20110912T170000Z
DTEND:20110912T183000Z
X-MICROSOFT-CDO-ALLDAYEVENT:FALSE
SUMMARY:Alzheimer's Support Group
DESCRIPTION:The Rockingham County Alzheimer's Support Group will hold its monthly meeting on Monday\, September 12th\, from 1:00 p.m. to 2:30 p.m. in the South Day Room of the Penn Nursing Center. Family\, friends\, and caregivers of individuals with Alzheimer's are invited to attend. This group meets on the 2nd Monday of each month. For more information\, please call 951-4674.
X-ALT-DESC;FMTTYPE=text/html:<span style="font-size: 12pt\; font-family: calibri\; mso-fareast-font-family: 'times new roman'\; mso-bidi-font-family: 'times new roman'\; mso-ansi-language: en-us\; mso-fareast-language: en-us\; mso-bidi-language: ar-sa"><font color="#000000" face="Times New Roman">The Rockingham County Alzheimer&rsquo\;s Support Group will hold its monthly meeting on <b>Monday\, September 12th\, </b>from 1:00 p.m. to 2:30 p.m. in the South Day Room of the Penn Nursing Center. Family\, friends\, and caregivers of individuals with Alzheimer&rsquo\;s are invited to attend. This group meets on the 2<sup>nd</sup> Monday of each month. For more information\, please call 951-4674.</font></span>
LOCATION:Annie Penn Hospital
UID:e.111.1984
SEQUENCE:3
DTSTAMP:20260423T102932Z
URL:https://business.reidsvillechamber.org/events/details/alzheimer-s-support-group-09-12-2011-1984
END:VEVENT

END:VCALENDAR
