BEGIN:VCALENDAR
VERSION:2.0
PRODID:-//ChamberMaster//Event Calendar 2.0//EN
METHOD:PUBLISH
X-PUBLISHED-TTL:P3D
REFRESH-INTERVAL:P3D
CALSCALE:GREGORIAN
BEGIN:VEVENT
DTSTART:20111114T180000Z
DTEND:20111114T193000Z
X-MICROSOFT-CDO-ALLDAYEVENT:FALSE
SUMMARY:Alzheimer's Support Group
DESCRIPTION:The Rockingham County Alzheimer's Support Group will hold its monthly meeting on Monday\, November 14th\, from 1:00 p.m. to 2:30 p.m. in the South Day Room of the Penn Nursing Center. Family\, friends\, and caregivers of individuals with Alzheimer's are invited to attend. This group meets on the 2nd Monday of each month. For more information\, please call 951-4674.
X-ALT-DESC;FMTTYPE=text/html:<span style="font-size: 12pt\; font-family: calibri\; mso-fareast-font-family: 'times new roman'\; mso-bidi-font-family: 'times new roman'\; mso-ansi-language: en-us\; mso-fareast-language: en-us\; mso-bidi-language: ar-sa"><font color="#000000" face="Times New Roman">The Rockingham County Alzheimer&rsquo\;s Support Group will hold its monthly meeting on <b>Monday\, November 14th\, </b>from 1:00 p.m. to 2:30 p.m. in the South Day Room of the Penn Nursing Center. Family\, friends\, and caregivers of individuals with Alzheimer&rsquo\;s are invited to attend. This group meets on the 2<sup>nd</sup> Monday of each month. For more information\, please call 951-4674.</font></span>
LOCATION:South Day Room of the Penn Nursing Center at Annie Penn Hospital
UID:e.111.2054
SEQUENCE:3
DTSTAMP:20260421T192442Z
URL:https://business.reidsvillechamber.org/events/details/alzheimer-s-support-group-11-14-2011-2054
END:VEVENT

END:VCALENDAR
