BEGIN:VCALENDAR
VERSION:2.0
PRODID:-//ChamberMaster//Event Calendar 2.0//EN
METHOD:PUBLISH
X-PUBLISHED-TTL:P3D
REFRESH-INTERVAL:P3D
CALSCALE:GREGORIAN
BEGIN:VEVENT
DTSTART;VALUE=DATE:20120416
DTEND;VALUE=DATE:20120417
TRANSP:TRANSPARENT
X-MICROSOFT-CDO-ALLDAYEVENT:TRUE
SUMMARY:American Red Cross Lifeguarding Classes
DESCRIPTION:Click Here For Flyer
X-ALT-DESC;FMTTYPE=text/html:<p style="text-align: center">\n	<a href="http://cloud.chambermaster.com/userfiles/UserFiles/chambers/111/File/AmericanRedCrossLifeguardingclassflyer.docx">Click Here For Flyer</a></p>\n
LOCATION:
UID:e.111.2192
SEQUENCE:3
DTSTAMP:20260421T130509Z
URL:https://business.reidsvillechamber.org/events/details/american-red-cross-lifeguarding-classes-04-16-2012-2192
END:VEVENT

END:VCALENDAR
