BEGIN:VCALENDAR
VERSION:2.0
PRODID:-//ChamberMaster//Event Calendar 2.0//EN
METHOD:PUBLISH
X-PUBLISHED-TTL:P3D
REFRESH-INTERVAL:P3D
CALSCALE:GREGORIAN
BEGIN:VEVENT
DTSTART:20120331T150000Z
DTEND:20120331T190000Z
X-MICROSOFT-CDO-ALLDAYEVENT:FALSE
SUMMARY:Animal Rescue Fundraiser
DESCRIPTION:Animal Rescue Fundraiser!\n\n	\n\n	Click Here\n\n	\n\n	When: Saturday\, March 31\, 2012\n\n	\n\n	Time: 11:00 am - 3:00 pm\n\n	\n\n	Where: Liberty Tax Service\, Reidsville NC
X-ALT-DESC;FMTTYPE=text/html:<p style="text-align: center">\n	<strong><span style="font-family: verdana"><span style="font-size: 16px">Animal Rescue Fundraiser!<br />\n	<br />\n	<span style="font-size: 14px"><a href="http://cloud.chambermaster.com/userfiles/UserFiles/chambers/111/File/AnimalRescueFundraiser.pdf">Click Here</a><br />\n	<br />\n	When: Saturday\, March 31\, 2012<br />\n	<br />\n	Time: 11:00 am - 3:00 pm<br />\n	<br />\n	Where: Liberty Tax Service\, Reidsville NC</span></span></span></strong><br />\n	<br />\n	&nbsp\;</p>\n
LOCATION:Liberty Tax Service 5200 US HWY 29 BUS\, Reidsville\, NC 27320 (Across from Lowes Home Improvement)
UID:e.111.2174
SEQUENCE:3
DTSTAMP:20260421T130630Z
URL:https://business.reidsvillechamber.org/events/details/animal-rescue-fundraiser-03-31-2012-2174
END:VEVENT

END:VCALENDAR
