BEGIN:VCALENDAR
VERSION:2.0
PRODID:-//ChamberMaster//Event Calendar 2.0//EN
METHOD:PUBLISH
X-PUBLISHED-TTL:P3D
REFRESH-INTERVAL:P3D
CALSCALE:GREGORIAN
BEGIN:VEVENT
DTSTART;VALUE=DATE:20110521
DTEND;VALUE=DATE:20110522
TRANSP:TRANSPARENT
X-MICROSOFT-CDO-ALLDAYEVENT:TRUE
SUMMARY:Animal Shelter Open House and Animal-palooza
DESCRIPTION:The Rockingham County Animal Shelter will hold an Open Houseand Animal-palooza at 250 Cherokee Camp Road behind the Governmental Center.   \n\n                Immediately following official remarks and the beginning of facility tours\, The Animal Protection Society of Rockingham County will hold its annual "Animal-palooza" on the Shelter grounds.  The public is invited to attend.   This event features a variety of rescue and humane groups and activities such as:\n\n\n	\n		RockinghamCountyHumane Society\n	\n		Feral Cat Assistance\n	\n		Canine Good Citizen Testing and Demonstrations\n	\n		Flurry's Hope Horse Rescue\n	\n		Dogs Deserve Better\n\n                Lewis Veterinary Clinic staff will be on hand providing $9 rabies vaccinations and the Humane Society will provide nail trimming.  \n\n                Well behaved dogs on leashes are welcome\, and a "Scruffy Mutt Best in Show" competition will be held beginning at 12:30.  Food vendors and children's games and activities will also be on hand.
X-ALT-DESC;FMTTYPE=text/html:<span style="font-family: calibri\;"><span style="font-size: 11pt\;">The Rockingham County Animal Shelter will hold an Open House</span></span><span style="font-family: calibri\;"><span style="font-size: 11pt\;">and Animal-palooza</span></span><span style="font-family: calibri\;"><span style="font-size: 11pt\;"> at 250 Cherokee Camp Road behind the Governmental Center. &nbsp\;&nbsp\;</span></span><br />\n<span style="font-family: calibri\;"><span style="font-size: 11pt\;">&nbsp\;&nbsp\;&nbsp\;&nbsp\;&nbsp\;&nbsp\;&nbsp\;&nbsp\;&nbsp\;&nbsp\;&nbsp\;&nbsp\;&nbsp\;&nbsp\;&nbsp\; Immediately following official remarks and the beginning of facility tours\, The Animal Protection Society of Rockingham County will hold its annual &quot\;Animal-palooza&rdquo\; on the Shelter grounds.&nbsp\; The public is invited to attend.&nbsp\; &nbsp\;This event features a variety of rescue and humane groups and activities such as:</span></span><br />\n<ul>\n	<li>\n		<span style="font-family: calibri\;"><span style="font-size: 11pt\;">Rockingham</span></span><span style="font-family: calibri\;"><span style="font-size: 11pt\;">County</span></span><span style="font-family: calibri\;"><span style="font-size: 11pt\;">Humane Society</span></span></li>\n	<li>\n		<span style="font-family: calibri\;"><span style="font-size: 11pt\;">Feral Cat Assistance</span></span></li>\n	<li>\n		<span style="font-family: calibri\;"><span style="font-size: 11pt\;">Canine Good Citizen Testing and Demonstrations</span></span></li>\n	<li>\n		<span style="font-family: calibri\;"><span style="font-size: 11pt\;">Flurry&#39\;s Hope Horse Rescue</span></span></li>\n	<li>\n		<span style="font-family: calibri\;"><span style="font-size: 11pt\;">Dogs Deserve Better</span></span></li>\n</ul>\n<span style="font-family: calibri\;"><span style="font-size: 11pt\;">&nbsp\;&nbsp\;&nbsp\;&nbsp\;&nbsp\;&nbsp\;&nbsp\;&nbsp\;&nbsp\;&nbsp\;&nbsp\;&nbsp\;&nbsp\;&nbsp\;&nbsp\; Lewis Veterinary Clinic staff will be on hand providing $9 rabies vaccinations and the Humane Society will provide nail trimming.&nbsp\; </span></span><br />\n<span style="font-family: calibri\;"><span style="font-size: 11pt\;">&nbsp\;&nbsp\;&nbsp\;&nbsp\;&nbsp\;&nbsp\;&nbsp\;&nbsp\;&nbsp\;&nbsp\;&nbsp\;&nbsp\;&nbsp\;&nbsp\;&nbsp\; Well behaved dogs on leashes are welcome\, and a &quot\;Scruffy Mutt Best in Show&quot\; competition will be held beginning at 12:30.&nbsp\; Food vendors and children&#39\;s games and activities will also be on hand.</span></span>
LOCATION:250 Cherokee Camp Road behind the Governmental Center.
UID:e.111.1922
SEQUENCE:3
DTSTAMP:20260423T170657Z
URL:https://business.reidsvillechamber.org/events/details/animal-shelter-open-house-and-animal-palooza-05-21-2011-1922
END:VEVENT

END:VCALENDAR
