BEGIN:VCALENDAR
VERSION:2.0
PRODID:-//ChamberMaster//Event Calendar 2.0//EN
METHOD:PUBLISH
X-PUBLISHED-TTL:P3D
REFRESH-INTERVAL:P3D
CALSCALE:GREGORIAN
BEGIN:VEVENT
DTSTART:20111027T213000Z
DTEND:20111027T230000Z
X-MICROSOFT-CDO-ALLDAYEVENT:FALSE
SUMMARY:Annie Penn Education Seminar: Common Ear\, Nose\, Throat Maladies: Facts vs. Myths
DESCRIPTION:Please join Dr. Su Wooi Teoh\, M.D.\, ENT physician\, as he discusses the myths and facts about common ear\, nose and throat maladies such as sinusitis\, tonsillitis\, sleep apnea and ear infections that negatively impact the lives of millions. The lecture is free\, and will be held in the Annie Penn Cafeteria on Thursday\, October 27th at 5:30 p.m. To register\, please call 336.832.8000 or visit www.conehealth.com/classes
X-ALT-DESC;FMTTYPE=text/html:<p class="MsoNormal" style="margin: 0in 0in 0pt\; mso-layout-grid-align: none">\n	<font face="Times New Roman"><span style="font-size: 11pt\; font-family: calibri"><font color="#000000">Please join Dr. Su Wooi Teoh\, M.D.\, ENT physician\, as he discusses the myths and facts about common ear\, nose and throat maladies such as sinusitis\, tonsillitis\, sleep apnea and ear infections that negatively impact the lives of millions. The lecture is free\, and will be held in the Annie Penn Cafeteria on <b style="mso-bidi-font-weight: normal">Thursday\,</b> <b style="mso-bidi-font-weight: normal">October 27<sup>th</sup></b> at 5:30 p.m. </font></span><span style="font-size: 11pt\; font-family: calibri\; mso-bidi-font-family: frutiger-roman"><font color="#000000">To register\, please call 336.832.8000 or visit</font><span style="color: #00008f"> www.conehealth.com/classes<o:p></o:p></span></span></font></p>\n
LOCATION:Annie Penn Hospital
UID:e.111.2038
SEQUENCE:3
DTSTAMP:20260423T084815Z
URL:https://business.reidsvillechamber.org/events/details/annie-penn-education-seminar-common-ear-nose-throat-maladies-facts-vs-myths-10-27-2011-2038
END:VEVENT

END:VCALENDAR
