BEGIN:VCALENDAR
VERSION:2.0
PRODID:-//ChamberMaster//Event Calendar 2.0//EN
METHOD:PUBLISH
X-PUBLISHED-TTL:P3D
REFRESH-INTERVAL:P3D
CALSCALE:GREGORIAN
BEGIN:VEVENT
DTSTART;VALUE=DATE:20111101
DTEND;VALUE=DATE:20111204
TRANSP:TRANSPARENT
X-MICROSOFT-CDO-ALLDAYEVENT:TRUE
SUMMARY:Annie Penn Foundation's Holiday Fundraiser
DESCRIPTION:Tickets are currently on sale for the Annie Penn Foundation's "An Enchanted Evening" on Saturday\, December 3\, from 7:30 p.m. until midnight. The event will be held at the Pennrose Park Country Club\, and will feature heavy Hors D'oeuvres and dancing to the Holiday Band. Tickets are $50 each. Sponsorships are also available for the event. To purchase tickets or for additional information\, please call 951-4595.
X-ALT-DESC;FMTTYPE=text/html:<font color="#000000"><font face="Times New Roman"><span style="font-size: 12pt\; font-family: calibri\; mso-fareast-font-family: 'times new roman'\; mso-bidi-font-family: 'times new roman'\; mso-ansi-language: en-us\; mso-fareast-language: en-us\; mso-bidi-language: ar-sa\; mso-bidi-font-weight: bold">Tickets are currently on sale for t</span><span style="font-size: 12pt\; font-family: calibri\; mso-fareast-font-family: 'times new roman'\; mso-bidi-font-family: 'times new roman'\; mso-ansi-language: en-us\; mso-fareast-language: en-us\; mso-bidi-language: ar-sa">he Annie Penn Foundation&rsquo\;s &ldquo\;An Enchanted Evening&rdquo\; on <b style="mso-bidi-font-weight: normal">Saturday\, December 3\,</b> from 7:30 p.m. until midnight. The event will be held at the Pennrose Park Country Club\, and will feature heavy Hors D&rsquo\;oeuvres and dancing to the <i style="mso-bidi-font-style: normal">Holiday Band.</i> Tickets are $50 each. Sponsorships are also available for the event. To purchase tickets or for additional information\, please call 951-4595.</span></font></font>
LOCATION:Pennrose Park Country Club
UID:e.111.2055
SEQUENCE:3
DTSTAMP:20260421T175012Z
URL:https://business.reidsvillechamber.org/events/details/annie-penn-foundation-s-holiday-fundraiser-11-01-2011-2055
END:VEVENT

END:VCALENDAR
