BEGIN:VCALENDAR
VERSION:2.0
PRODID:-//ChamberMaster//Event Calendar 2.0//EN
METHOD:PUBLISH
X-PUBLISHED-TTL:P3D
REFRESH-INTERVAL:P3D
CALSCALE:GREGORIAN
BEGIN:VEVENT
DTSTART:20111204T003000Z
DTEND:20111204T050000Z
X-MICROSOFT-CDO-ALLDAYEVENT:FALSE
SUMMARY:Annie Penn Foundation's Holiday Gala
DESCRIPTION:The Annie Penn Foundation will hold its annual holiday gala\, "An Enchanted Evening"\, on Saturday\, December 3rd\, from 7:30 pm until midnight. The event will be held at the Pennrose Park Country Club\, and will feature heavy Hors D'oeuvres and dancing to the Holiday Band. For tickets or more information\, please call 951-4595.
X-ALT-DESC;FMTTYPE=text/html:<p class="MsoNormal" style="margin: 0in 0in 0pt">\n	<span style="font-family: calibri"><font size="2"><font color="#000000"><font face="Times New Roman">The Annie Penn Foundation will hold its annual holiday gala\, &ldquo\;An Enchanted Evening&rdquo\;\, on <b>Saturday\, December 3rd\,</b> from 7:30 pm until midnight. The event will be held at the Pennrose Park Country Club\, and will feature heavy Hors D&rsquo\;oeuvres and dancing to the Holiday Band. For tickets or more information\, please call 951-4595.<o:p></o:p></font></font></font></span></p>\n
LOCATION:Pennrose Park Country Club
UID:e.111.2068
SEQUENCE:3
DTSTAMP:20260421T175018Z
URL:https://business.reidsvillechamber.org/events/details/annie-penn-foundation-s-holiday-gala-12-03-2011-2068
END:VEVENT

END:VCALENDAR
