BEGIN:VCALENDAR
VERSION:2.0
PRODID:-//ChamberMaster//Event Calendar 2.0//EN
METHOD:PUBLISH
X-PUBLISHED-TTL:P3D
REFRESH-INTERVAL:P3D
CALSCALE:GREGORIAN
BEGIN:VEVENT
DTSTART:20100311T120000Z
DTEND:20100311T210000Z
X-MICROSOFT-CDO-ALLDAYEVENT:FALSE
SUMMARY:Annie Penn Hospital Auxilary Spring Book and Gift Sale
DESCRIPTION:The Annie Penn Hospital Auxilary will sponsor a one-day Spring Book & Gift Sale!  A large selection of books at discount prices will be available\, as well as Easter items.  All profits from the sale will be used by the Auxiliary to purchase hospital equipment.  Cash\, credit/debit\, checks\, and Quick Charge payroll deduction will be available.
X-ALT-DESC;FMTTYPE=text/html:The Annie Penn Hospital Auxilary will sponsor a one-day Spring Book & Gift Sale!  A large selection of books at discount prices will be available\, as well as Easter items.  All profits from the sale will be used by the Auxiliary to purchase hospital equipment.  Cash\, credit/debit\, checks\, and Quick Charge payroll deduction will be available.
LOCATION:Main Lobby of Annie Penn Hospital
UID:e.111.1328
SEQUENCE:3
DTSTAMP:20260424T153357Z
URL:https://business.reidsvillechamber.org/events/details/annie-penn-hospital-auxilary-spring-book-and-gift-sale-03-11-2010-1328
END:VEVENT

END:VCALENDAR
