BEGIN:VCALENDAR
VERSION:2.0
PRODID:-//ChamberMaster//Event Calendar 2.0//EN
METHOD:PUBLISH
X-PUBLISHED-TTL:P3D
REFRESH-INTERVAL:P3D
CALSCALE:GREGORIAN
BEGIN:VEVENT
DTSTART:20110630T213000Z
DTEND:20110630T223000Z
X-MICROSOFT-CDO-ALLDAYEVENT:FALSE
SUMMARY:Annie Penn Hospital Community Educational Seminar
DESCRIPTION:Several hundred thousand joint replacements are done each year. Join Dr. Stanley Harrison\, orthopedic surgeon\, as he discusses "What's New in Total Joint Replacement?"
X-ALT-DESC;FMTTYPE=text/html:Several hundred thousand joint replacements are done each year. Join Dr. Stanley Harrison\, orthopedic surgeon\, as he discusses &quot\;What&#39\;s New in Total Joint Replacement?&quot\;
LOCATION:Annie Penn Hospital Cafeteria
UID:e.111.1944
SEQUENCE:3
DTSTAMP:20260423T152119Z
URL:https://business.reidsvillechamber.org/events/details/annie-penn-hospital-community-educational-seminar-06-30-2011-1944
END:VEVENT

END:VCALENDAR
