BEGIN:VCALENDAR
VERSION:2.0
PRODID:-//ChamberMaster//Event Calendar 2.0//EN
METHOD:PUBLISH
X-PUBLISHED-TTL:P3D
REFRESH-INTERVAL:P3D
CALSCALE:GREGORIAN
BEGIN:VEVENT
DTSTART:20111206T223000Z
DTEND:20111207T000000Z
X-MICROSOFT-CDO-ALLDAYEVENT:FALSE
SUMMARY:Annie Penn Hospital Educational Seminar: Got Sugar??
DESCRIPTION:Join Zack Hall\, M.D.\, a local internist and Dr. Nathan Hember\, North Carolina's Community Pharmacist of the Year from Carolina Apothecary as they discuss current recommendations and treatments for patients with diabetes. This free session will be held on Tuesday\, December 6th at 5:30 p.m. in the Annie Penn Hospital Cafeteria. To register\, please call 336-832-8000 or visit www.conehealth.com/classes.
X-ALT-DESC;FMTTYPE=text/html:<span style="font-size: 10pt\; font-family: calibri\; mso-fareast-font-family: 'times new roman'\; mso-bidi-font-family: 'times new roman'\; mso-ansi-language: en-us\; mso-fareast-language: en-us\; mso-bidi-language: ar-sa"><font color="#000000" face="Times New Roman">Join Zack Hall\, M.D.\, a local internist and Dr. Nathan Hember\, North Carolina&rsquo\;s Community Pharmacist of the Year from Carolina Apothecary as they discuss current recommendations and treatments for patients with diabetes. This free session will be held on <b style="mso-bidi-font-weight: normal">Tuesday\, December 6<sup>th</sup></b> at 5:30 p.m. in the Annie Penn Hospital Cafeteria. To register\, please call 336-832-8000 or visit </font><a href="http://www.conehealth.com/classes"><font face="Times New Roman">www.conehealth.com/classes</font></a><font color="#000000" face="Times New Roman">. </font></span>
LOCATION:Annie Penn Hospital
UID:e.111.2075
SEQUENCE:3
DTSTAMP:20260421T175059Z
URL:https://business.reidsvillechamber.org/events/details/annie-penn-hospital-educational-seminar-got-sugar-12-06-2011-2075
END:VEVENT

END:VCALENDAR
