BEGIN:VCALENDAR
VERSION:2.0
PRODID:-//ChamberMaster//Event Calendar 2.0//EN
METHOD:PUBLISH
X-PUBLISHED-TTL:P3D
REFRESH-INTERVAL:P3D
CALSCALE:GREGORIAN
BEGIN:VEVENT
DTSTART:20111204T003000Z
DTEND:20111203T170000Z
X-MICROSOFT-CDO-ALLDAYEVENT:FALSE
SUMMARY:Annie Penn Hospital Foundation's Enchanted Evening
DESCRIPTION:The Annie Penn Hospital Foundation will hold its annual Enchanted Evening on Saturday\, December 3\, 2011\, at Pennrose Park Country Club  - 7:30 pm to Midnight\, featuring the Holiday Band.  Join us at this "Black tie optional" event for dancing\, open bar\, and heavy hors d'oeuvres. Proceeds benefit the Annie Penn Hospital Foundation. \n\n\n\nFor sponsorships or tickets\, please call Darlene Daniel at 951-4595.  Check\, credit cards\, or cash accepted.
X-ALT-DESC;FMTTYPE=text/html:The Annie Penn Hospital Foundation will hold its annual&nbsp\;Enchanted Evening&nbsp\;on Saturday\, December 3\, 2011\, at Pennrose Park Country Club&nbsp\; - 7:30 pm to Midnight\, featuring the&nbsp\;Holiday Band.&nbsp\; Join us at this &quot\;Black tie optional&quot\; event for dancing\, open bar\, and heavy hors d&#39\;oeuvres. Proceeds&nbsp\;benefit the&nbsp\;Annie Penn Hospital Foundation.&nbsp\;<br />\n<br />\nFor sponsorships or tickets\, please call Darlene Daniel at 951-4595.&nbsp\; Check\, credit cards\, or cash accepted.
LOCATION:Pennrose Park Country Club - Reidsville\, NC
UID:e.111.776
SEQUENCE:3
DTSTAMP:20260421T192825Z
URL:https://business.reidsvillechamber.org/events/details/annie-penn-hospital-foundation-s-enchanted-evening-12-03-2011-776
END:VEVENT

END:VCALENDAR
