BEGIN:VCALENDAR
VERSION:2.0
PRODID:-//ChamberMaster//Event Calendar 2.0//EN
METHOD:PUBLISH
X-PUBLISHED-TTL:P3D
REFRESH-INTERVAL:P3D
CALSCALE:GREGORIAN
BEGIN:VEVENT
DTSTART;VALUE=DATE:20120305
DTEND;VALUE=DATE:20120421
TRANSP:TRANSPARENT
X-MICROSOFT-CDO-ALLDAYEVENT:TRUE
SUMMARY:Annie Penn Hospital Summer Teen Volunteer Program
DESCRIPTION:Annie Penn Hospital's summer teen volunteer applications are now available.  Applications may be obtained at Annie Penn Hospital information desks\, or at the Volunteer Services office on the hospital's second floor.  Applicants must be 14 years of age by June 1\, 2012.  Enrollment will be limited\, and the application process will be competitive.  This year's program will run from June 25-August 10.  The deadline for completed applications is Friday\, April 20\, 2012.  For more information\, please call 951-4559.
X-ALT-DESC;FMTTYPE=text/html:Annie Penn Hospital&#39\;s summer teen volunteer applications are now available.&nbsp\; Applications may be obtained at Annie Penn Hospital information desks\, or at the Volunteer Services office on the hospital&#39\;s second floor.&nbsp\; Applicants must be 14 years of age by June 1\, 2012.&nbsp\; Enrollment will be limited\, and the application process will be&nbsp\;competitive.&nbsp\; This year&#39\;s program will run from June 25-August 10.&nbsp\; The deadline for completed applications is Friday\, April 20\, 2012.&nbsp\; For more information\, please call 951-4559.
LOCATION:Annie Penn Hospital 618 S. Main Street Reidsville\, N.C.
UID:e.111.2163
SEQUENCE:3
DTSTAMP:20260421T114030Z
URL:https://business.reidsvillechamber.org/events/details/annie-penn-hospital-summer-teen-volunteer-program-03-05-2012-2163
END:VEVENT

END:VCALENDAR
