BEGIN:VCALENDAR
VERSION:2.0
PRODID:-//ChamberMaster//Event Calendar 2.0//EN
METHOD:PUBLISH
X-PUBLISHED-TTL:P3D
REFRESH-INTERVAL:P3D
CALSCALE:GREGORIAN
BEGIN:VEVENT
DTSTART:20091121T150000Z
DTEND:20091121T220000Z
X-MICROSOFT-CDO-ALLDAYEVENT:FALSE
SUMMARY:Annual Extension Volunteer Fall Fair
DESCRIPTION:ROCKINGHAM COUNTY EXTENSION VOLUNTEERFALL FAIR Saturday\, November 21\, 2009Agrictultural Building in Wentworth525 Hwy 65 This annual event provides holiday shoppers with a variety of quality hand crafted gifts and delicious baked goods. Enter the drawing for a handmade quilt\, wall hangin and pillow to be given away at noon.
X-ALT-DESC;FMTTYPE=text/html:<div style="text-align: center"><strong><span style="font-family: Tahoma"><span style="font-size: larger">&nbsp\;&nbsp\;&nbsp\;&nbsp\;ROCKINGHAM COUNTY EXTENSION VOLUNTEER</span></span></strong></div><div style="text-align: center"><strong><span style="font-family: Tahoma"><span style="font-size: larger"><em>FALL FAIR</em></span></span></strong></div><div style="text-align: center">&nbsp\;</div><div style="text-align: center"><strong><span style="font-family: Tahoma"><span style="font-size: larger"><em>Saturday\, November 21\, 2009</em></span></span></strong></div><div style="text-align: center"><strong><span style="font-family: Tahoma"><span style="font-size: larger"><em>Agrictultural Building in Wentworth</em></span></span></strong></div><div style="text-align: center"><strong><span style="font-family: Tahoma"><span style="font-size: larger"><em>525 Hwy 65</em></span></span></strong></div><div style="text-align: center">&nbsp\;</div><div style="text-align: center"><strong><span style="font-family: Tahoma"><span style="font-size: larger"><em>This annual event provides holiday shoppers with a variety of quality hand crafted gifts and delicious baked goods.</em></span></span></strong></div><div style="text-align: center">&nbsp\;</div><div style="text-align: center"><strong><span style="font-family: Tahoma"><span style="font-size: larger"><em>Enter the drawing for a handmade quilt\, wall hangin and pillow to be given away at noon.&nbsp\; </em></span></span></strong></div><div style="text-align: center">&nbsp\;</div><div style="text-align: center">&nbsp\;</div>
LOCATION:
UID:e.111.1268
SEQUENCE:3
DTSTAMP:20260424T220441Z
URL:https://business.reidsvillechamber.org/events/details/annual-extension-volunteer-fall-fair-11-21-2009-1268
END:VEVENT

END:VCALENDAR
