BEGIN:VCALENDAR
VERSION:2.0
PRODID:-//ChamberMaster//Event Calendar 2.0//EN
METHOD:PUBLISH
X-PUBLISHED-TTL:P3D
REFRESH-INTERVAL:P3D
CALSCALE:GREGORIAN
BEGIN:VEVENT
DTSTART:20150120T220000Z
DTEND:20150121T010000Z
X-MICROSOFT-CDO-ALLDAYEVENT:FALSE
SUMMARY:Annual Open House
DESCRIPTION:Please join us for our Annual Open House!  We will have great food provided by Mom's Kitchen Catering\, Door Prizes & Free Gift Giveaways\, Discounts on Future Bookings\, Salon & Spa Tours\, Introduction of New Services & Education on Existing Services!  Invite your friends & family!
X-ALT-DESC;FMTTYPE=text/html:Please join us for our Annual Open House!&nbsp\; We will have great food provided by Mom&#39\;s Kitchen Catering\, Door Prizes &amp\; Free Gift Giveaways\, Discounts on Future Bookings\, Salon &amp\; Spa Tours\, Introduction of New Services &amp\; Education on Existing Services!&nbsp\; Invite your friends &amp\; family!
LOCATION:Midtown Salon & Spa 1731 Freeway Drive\, Ste. F Reidsville\, NC 27320 Due to Freeway Drive construction our entrance is closed & a service road has been provided for us on Harrison/hwy87 going towards Wentworth. If you need directions\, please don't hesitate to call.
UID:e.111.3024
SEQUENCE:3
DTSTAMP:20260422T103220Z
URL:https://business.reidsvillechamber.org/events/details/annual-open-house-01-20-2015-3024
END:VEVENT

END:VCALENDAR
